BEGIN:VCALENDAR
VERSION:2.0
PRODID:-//Hospice of Michigan - ECPv6.15.20//NONSGML v1.0//EN
CALSCALE:GREGORIAN
METHOD:PUBLISH
X-WR-CALNAME:Hospice of Michigan
X-ORIGINAL-URL:https://www.hom.org
X-WR-CALDESC:Events for Hospice of Michigan
REFRESH-INTERVAL;VALUE=DURATION:PT1H
X-Robots-Tag:noindex
X-PUBLISHED-TTL:PT1H
BEGIN:VTIMEZONE
TZID:America/Detroit
BEGIN:DAYLIGHT
TZOFFSETFROM:-0500
TZOFFSETTO:-0400
TZNAME:EDT
DTSTART:20260308T070000
END:DAYLIGHT
BEGIN:STANDARD
TZOFFSETFROM:-0400
TZOFFSETTO:-0500
TZNAME:EST
DTSTART:20261101T060000
END:STANDARD
BEGIN:DAYLIGHT
TZOFFSETFROM:-0500
TZOFFSETTO:-0400
TZNAME:EDT
DTSTART:20270314T070000
END:DAYLIGHT
BEGIN:STANDARD
TZOFFSETFROM:-0400
TZOFFSETTO:-0500
TZNAME:EST
DTSTART:20271107T060000
END:STANDARD
BEGIN:DAYLIGHT
TZOFFSETFROM:-0500
TZOFFSETTO:-0400
TZNAME:EDT
DTSTART:20280312T070000
END:DAYLIGHT
BEGIN:STANDARD
TZOFFSETFROM:-0400
TZOFFSETTO:-0500
TZNAME:EST
DTSTART:20281105T060000
END:STANDARD
END:VTIMEZONE
BEGIN:VEVENT
DTSTART;TZID=America/Detroit:20270406T103000
DTEND;TZID=America/Detroit:20270406T113000
DTSTAMP:20260420T104536
CREATED:20241218T213408Z
LAST-MODIFIED:20241218T213408Z
UID:10003551-1807007400-1807011000@www.hom.org
SUMMARY:LIVING ON - GENERAL LOSS GROUPS
DESCRIPTION:The focus of Living On support groups is to express feelings and experiences related to the loss of\na loved one in a supportive\, caring\, and non-judgmental environment. Grief and loss topics are\naddressed as they arise\, depending on the interests of those attending the group. \n4th Tuesday of the month • 10:30am – 11:30am\nRSVP with Meredith Hartmann • 734-709-3088\nmhartmann@arborhospice.org
URL:https://www.hom.org/event/living-on-general-loss-groups/2027-04-06/
LOCATION:Virtual Event
CATEGORIES:Grief Support
ORGANIZER;CN="Meredith Hartmann":MAILTO:mhartmann@arborhospice.org
END:VEVENT
BEGIN:VEVENT
DTSTART;TZID=America/Detroit:20270406T173000
DTEND;TZID=America/Detroit:20270406T184500
DTSTAMP:20260420T104536
CREATED:20240820T195615Z
LAST-MODIFIED:20240820T195615Z
UID:10003197-1807032600-1807037100@www.hom.org
SUMMARY:Living On - Sudden/Traumatic Loss (Virtual)
DESCRIPTION:An open\, ongoing group that meets monthly to discuss grief and loss as it pertains to the sudden and traumatic loss of a loved one.\n1st Tuesday of the month • 5:30pm – 6:45pm\nRSVP: Kjirsten Boeve • 231-929-1557 • kboeve@hom.org
URL:https://www.hom.org/event/living-on-sudden-traumatic-loss-virtual/2027-04-06/
LOCATION:Virtual Event
CATEGORIES:Grief Support
ORGANIZER;CN="Kjirsten Boeve":MAILTO:kboeve@hom.org
END:VEVENT
BEGIN:VEVENT
DTSTART;TZID=America/Detroit:20270406T180000
DTEND;TZID=America/Detroit:20270406T193000
DTSTAMP:20260420T104536
CREATED:20240408T182719Z
LAST-MODIFIED:20240409T182354Z
UID:10001747-1807034400-1807039800@www.hom.org
SUMMARY:Living On Grief Support Group (Virtual)
DESCRIPTION:The focus of Living On support groups is to express feelings and experiences related to the loss of a loved one in a supportive\, caring\, and non-judgmental environment. Grief and loss topics are addressed as they arise\, depending on the interests of those attending the group.  \nThis group meets virtually the 1st Tuesday of the month • 6pm – 7:30pm\nPlease RSVP with Cindy Palmer • 231-527-0913 • cpalmer@hom.org
URL:https://www.hom.org/event/living-on-grief-support-group-virtual-2/2027-04-06/
LOCATION:Virtual Event
CATEGORIES:Grief Support
ORGANIZER;CN="Cynthia Palmer":MAILTO:cpalmer@hom.org
END:VEVENT
BEGIN:VEVENT
DTSTART;TZID=America/Detroit:20270408T103000
DTEND;TZID=America/Detroit:20270408T113000
DTSTAMP:20260420T104536
CREATED:20240409T202425Z
LAST-MODIFIED:20240820T190143Z
UID:10002092-1807180200-1807183800@www.hom.org
SUMMARY:Living On - Loss of an Adult Child - Grief Support Group (Virtual)
DESCRIPTION:The focus of Living On support groups is to express feelings and experiences related to the loss of a loved one in a supportive\, caring\, and non-judgmental environment. Grief and loss topics are addressed as they arise\, depending on the interests of those attending the group.  \nThis open\, ongoing group that meets virtually monthly to discuss grief and loss as it pertains to the death of an adult child.\nThis group meets the 2nd Thursday of the month • 10:30am – 11:30am RSVP with Will Gasper • 231-444-3350 • wgasper@hom.org
URL:https://www.hom.org/event/living-on-adult-child-grief-support-group-virtual/2027-04-08/
LOCATION:Virtual Event
CATEGORIES:Grief Support
ORGANIZER;CN="Will Gasper":MAILTO:wgasper@hom.org
END:VEVENT
BEGIN:VEVENT
DTSTART;TZID=America/Detroit:20270408T133000
DTEND;TZID=America/Detroit:20270408T150000
DTSTAMP:20260420T104536
CREATED:20241218T214132Z
LAST-MODIFIED:20250106T193236Z
UID:10003819-1807191000-1807196400@www.hom.org
SUMMARY:Living On - General Loss Group
DESCRIPTION:The focus of Living On support groups is to express feelings and experiences related to the loss of\na loved one in a supportive\, caring\, and non-judgmental environment. Grief and loss topics are\naddressed as they arise\, depending on the interests of those attending the group. \n1st & 3rd Thursday of the month • 1:30pm – 3pm\nRSVP with Jackie Morris • 313-578-6328 • jmorris@hom.org
URL:https://www.hom.org/event/living-on-general-loss-group-2/2027-04-08/
LOCATION:Virtual Event
CATEGORIES:Grief Support
ORGANIZER;CN="Jackie Morris":MAILTO:jmorris@hom.org
END:VEVENT
BEGIN:VEVENT
DTSTART;TZID=America/Detroit:20270412T180000
DTEND;TZID=America/Detroit:20270412T191500
DTSTAMP:20260420T104536
CREATED:20231128T192630Z
LAST-MODIFIED:20240820T184643Z
UID:10002786-1807552800-1807557300@www.hom.org
SUMMARY:Living On (Virtual)
DESCRIPTION:The focus of this Living On support group is to express feelings and experiences related to the loss of a loved one in a supportive\, caring\, and non-judgmental environment. Grief and loss topics are addressed as they arise\, depending n the interests of those attending the group. RSVP to Margie Martin at 734.769.5821 or mmartin@arborhospice.org
URL:https://www.hom.org/event/living-on-virtual-4/2027-04-12/
LOCATION:Virtual Event
CATEGORIES:Grief Support
ORGANIZER;CN="Margie Martin":MAILTO:mmartin@arborhospice.org
END:VEVENT
BEGIN:VEVENT
DTSTART;TZID=America/Detroit:20270412T183000
DTEND;TZID=America/Detroit:20270412T200000
DTSTAMP:20260420T104536
CREATED:20231128T162827Z
LAST-MODIFIED:20231128T163322Z
UID:10001437-1807554600-1807560000@www.hom.org
SUMMARY:Living On - Loss of a Parent (Virtual)
DESCRIPTION:An open\, ongoing support group that meets monthly to discuss grief and loss as it pertains to the death of a parent.  \nPlease RSVP with Melissa McCreedy at mmccreedy@arborhospice.org
URL:https://www.hom.org/event/living-on-loss-of-a-parent-virtual-2-2/2027-04-12/
LOCATION:Virtual Event
CATEGORIES:Grief Support
ORGANIZER;CN="Melissa McCreedy":MAILTO:mmccreedy@arborhospice.org
END:VEVENT
BEGIN:VEVENT
DTSTART;TZID=America/Detroit:20270413T103000
DTEND;TZID=America/Detroit:20270413T113000
DTSTAMP:20260420T104536
CREATED:20241218T213408Z
LAST-MODIFIED:20241218T213408Z
UID:10003552-1807612200-1807615800@www.hom.org
SUMMARY:LIVING ON - GENERAL LOSS GROUPS
DESCRIPTION:The focus of Living On support groups is to express feelings and experiences related to the loss of\na loved one in a supportive\, caring\, and non-judgmental environment. Grief and loss topics are\naddressed as they arise\, depending on the interests of those attending the group. \n4th Tuesday of the month • 10:30am – 11:30am\nRSVP with Meredith Hartmann • 734-709-3088\nmhartmann@arborhospice.org
URL:https://www.hom.org/event/living-on-general-loss-groups/2027-04-13/
LOCATION:Virtual Event
CATEGORIES:Grief Support
ORGANIZER;CN="Meredith Hartmann":MAILTO:mhartmann@arborhospice.org
END:VEVENT
BEGIN:VEVENT
DTSTART;TZID=America/Detroit:20270413T183000
DTEND;TZID=America/Detroit:20270413T193000
DTSTAMP:20260420T104536
CREATED:20240409T204445Z
LAST-MODIFIED:20240409T204445Z
UID:10002335-1807641000-1807644600@www.hom.org
SUMMARY:Grief After Dementia - Grief Support Group (Virtual)
DESCRIPTION:Losing someone after a dementia-related illness can be a unique grief experience. This program is presented in partnership with the Alzheimer’s Association of Michigan.\nThis group meets virtually the 2nd Tuesday of the month 6:30pm – 7:30pm\nPlease RSVP with Alexandra Irwin 231-527-0913 • airwin@hom.org
URL:https://www.hom.org/event/grief-after-dementia-grief-support-group-virtual/2027-04-13/
LOCATION:Virtual Event
CATEGORIES:Grief Support
ORGANIZER;CN="Alexandra Irwin":MAILTO:airwin@hom.org
END:VEVENT
BEGIN:VEVENT
DTSTART;TZID=America/Detroit:20270415T133000
DTEND;TZID=America/Detroit:20270415T150000
DTSTAMP:20260420T104536
CREATED:20241218T214132Z
LAST-MODIFIED:20250106T193236Z
UID:10003820-1807795800-1807801200@www.hom.org
SUMMARY:Living On - General Loss Group
DESCRIPTION:The focus of Living On support groups is to express feelings and experiences related to the loss of\na loved one in a supportive\, caring\, and non-judgmental environment. Grief and loss topics are\naddressed as they arise\, depending on the interests of those attending the group. \n1st & 3rd Thursday of the month • 1:30pm – 3pm\nRSVP with Jackie Morris • 313-578-6328 • jmorris@hom.org
URL:https://www.hom.org/event/living-on-general-loss-group-2/2027-04-15/
LOCATION:Virtual Event
CATEGORIES:Grief Support
ORGANIZER;CN="Jackie Morris":MAILTO:jmorris@hom.org
END:VEVENT
BEGIN:VEVENT
DTSTART;TZID=America/Detroit:20270420T103000
DTEND;TZID=America/Detroit:20270420T113000
DTSTAMP:20260420T104536
CREATED:20241218T213408Z
LAST-MODIFIED:20241218T213408Z
UID:10003553-1808217000-1808220600@www.hom.org
SUMMARY:LIVING ON - GENERAL LOSS GROUPS
DESCRIPTION:The focus of Living On support groups is to express feelings and experiences related to the loss of\na loved one in a supportive\, caring\, and non-judgmental environment. Grief and loss topics are\naddressed as they arise\, depending on the interests of those attending the group. \n4th Tuesday of the month • 10:30am – 11:30am\nRSVP with Meredith Hartmann • 734-709-3088\nmhartmann@arborhospice.org
URL:https://www.hom.org/event/living-on-general-loss-groups/2027-04-20/
LOCATION:Virtual Event
CATEGORIES:Grief Support
ORGANIZER;CN="Meredith Hartmann":MAILTO:mhartmann@arborhospice.org
END:VEVENT
BEGIN:VEVENT
DTSTART;TZID=America/Detroit:20270422T133000
DTEND;TZID=America/Detroit:20270422T150000
DTSTAMP:20260420T104536
CREATED:20241218T214132Z
LAST-MODIFIED:20250106T193236Z
UID:10003821-1808400600-1808406000@www.hom.org
SUMMARY:Living On - General Loss Group
DESCRIPTION:The focus of Living On support groups is to express feelings and experiences related to the loss of\na loved one in a supportive\, caring\, and non-judgmental environment. Grief and loss topics are\naddressed as they arise\, depending on the interests of those attending the group. \n1st & 3rd Thursday of the month • 1:30pm – 3pm\nRSVP with Jackie Morris • 313-578-6328 • jmorris@hom.org
URL:https://www.hom.org/event/living-on-general-loss-group-2/2027-04-22/
LOCATION:Virtual Event
CATEGORIES:Grief Support
ORGANIZER;CN="Jackie Morris":MAILTO:jmorris@hom.org
END:VEVENT
BEGIN:VEVENT
DTSTART;TZID=America/Detroit:20270427T103000
DTEND;TZID=America/Detroit:20270427T113000
DTSTAMP:20260420T104536
CREATED:20241218T213408Z
LAST-MODIFIED:20241218T213408Z
UID:10003554-1808821800-1808825400@www.hom.org
SUMMARY:LIVING ON - GENERAL LOSS GROUPS
DESCRIPTION:The focus of Living On support groups is to express feelings and experiences related to the loss of\na loved one in a supportive\, caring\, and non-judgmental environment. Grief and loss topics are\naddressed as they arise\, depending on the interests of those attending the group. \n4th Tuesday of the month • 10:30am – 11:30am\nRSVP with Meredith Hartmann • 734-709-3088\nmhartmann@arborhospice.org
URL:https://www.hom.org/event/living-on-general-loss-groups/2027-04-27/
LOCATION:Virtual Event
CATEGORIES:Grief Support
ORGANIZER;CN="Meredith Hartmann":MAILTO:mhartmann@arborhospice.org
END:VEVENT
BEGIN:VEVENT
DTSTART;TZID=America/Detroit:20270429T133000
DTEND;TZID=America/Detroit:20270429T150000
DTSTAMP:20260420T104536
CREATED:20241218T214132Z
LAST-MODIFIED:20250106T193236Z
UID:10003822-1809005400-1809010800@www.hom.org
SUMMARY:Living On - General Loss Group
DESCRIPTION:The focus of Living On support groups is to express feelings and experiences related to the loss of\na loved one in a supportive\, caring\, and non-judgmental environment. Grief and loss topics are\naddressed as they arise\, depending on the interests of those attending the group. \n1st & 3rd Thursday of the month • 1:30pm – 3pm\nRSVP with Jackie Morris • 313-578-6328 • jmorris@hom.org
URL:https://www.hom.org/event/living-on-general-loss-group-2/2027-04-29/
LOCATION:Virtual Event
CATEGORIES:Grief Support
ORGANIZER;CN="Jackie Morris":MAILTO:jmorris@hom.org
END:VEVENT
BEGIN:VEVENT
DTSTART;TZID=America/Detroit:20270503T180000
DTEND;TZID=America/Detroit:20270503T191500
DTSTAMP:20260420T104536
CREATED:20240409T200019Z
LAST-MODIFIED:20240409T200019Z
UID:10001895-1809367200-1809371700@www.hom.org
SUMMARY:Living On - Young Adults - Grief Support Group (Virtual)
DESCRIPTION:This is an open\, ongoing support group for people in their 20s and 30s who are mourning any loss. Each group will consist of a time of education\, sharing and support. This group is facilitated by Hospice of Michigan and Arbor Hospice Grief Counselors and is largely peer-supported.  \nThis group meets virtually the 1st Monday of the month • 6pm – 7:15pm\nPlease RSVP with Ryan Miller • 616-356-5228 • rymiller@hom.org
URL:https://www.hom.org/event/living-on-young-adults-grief-support-group-virtual/2027-05-03/
LOCATION:Virtual Event
CATEGORIES:Grief Support
ORGANIZER;CN="Ryan Miller":MAILTO:rymiller@hom.org
END:VEVENT
BEGIN:VEVENT
DTSTART;TZID=America/Detroit:20270504T103000
DTEND;TZID=America/Detroit:20270504T113000
DTSTAMP:20260420T104536
CREATED:20241218T213408Z
LAST-MODIFIED:20241218T213408Z
UID:10003555-1809426600-1809430200@www.hom.org
SUMMARY:LIVING ON - GENERAL LOSS GROUPS
DESCRIPTION:The focus of Living On support groups is to express feelings and experiences related to the loss of\na loved one in a supportive\, caring\, and non-judgmental environment. Grief and loss topics are\naddressed as they arise\, depending on the interests of those attending the group. \n4th Tuesday of the month • 10:30am – 11:30am\nRSVP with Meredith Hartmann • 734-709-3088\nmhartmann@arborhospice.org
URL:https://www.hom.org/event/living-on-general-loss-groups/2027-05-04/
LOCATION:Virtual Event
CATEGORIES:Grief Support
ORGANIZER;CN="Meredith Hartmann":MAILTO:mhartmann@arborhospice.org
END:VEVENT
BEGIN:VEVENT
DTSTART;TZID=America/Detroit:20270504T173000
DTEND;TZID=America/Detroit:20270504T184500
DTSTAMP:20260420T104536
CREATED:20240820T195615Z
LAST-MODIFIED:20240820T195615Z
UID:10003198-1809451800-1809456300@www.hom.org
SUMMARY:Living On - Sudden/Traumatic Loss (Virtual)
DESCRIPTION:An open\, ongoing group that meets monthly to discuss grief and loss as it pertains to the sudden and traumatic loss of a loved one.\n1st Tuesday of the month • 5:30pm – 6:45pm\nRSVP: Kjirsten Boeve • 231-929-1557 • kboeve@hom.org
URL:https://www.hom.org/event/living-on-sudden-traumatic-loss-virtual/2027-05-04/
LOCATION:Virtual Event
CATEGORIES:Grief Support
ORGANIZER;CN="Kjirsten Boeve":MAILTO:kboeve@hom.org
END:VEVENT
BEGIN:VEVENT
DTSTART;TZID=America/Detroit:20270504T180000
DTEND;TZID=America/Detroit:20270504T193000
DTSTAMP:20260420T104536
CREATED:20240408T182719Z
LAST-MODIFIED:20240409T182354Z
UID:10001748-1809453600-1809459000@www.hom.org
SUMMARY:Living On Grief Support Group (Virtual)
DESCRIPTION:The focus of Living On support groups is to express feelings and experiences related to the loss of a loved one in a supportive\, caring\, and non-judgmental environment. Grief and loss topics are addressed as they arise\, depending on the interests of those attending the group.  \nThis group meets virtually the 1st Tuesday of the month • 6pm – 7:30pm\nPlease RSVP with Cindy Palmer • 231-527-0913 • cpalmer@hom.org
URL:https://www.hom.org/event/living-on-grief-support-group-virtual-2/2027-05-04/
LOCATION:Virtual Event
CATEGORIES:Grief Support
ORGANIZER;CN="Cynthia Palmer":MAILTO:cpalmer@hom.org
END:VEVENT
BEGIN:VEVENT
DTSTART;TZID=America/Detroit:20270506T133000
DTEND;TZID=America/Detroit:20270506T150000
DTSTAMP:20260420T104536
CREATED:20241218T214132Z
LAST-MODIFIED:20250106T193236Z
UID:10003823-1809610200-1809615600@www.hom.org
SUMMARY:Living On - General Loss Group
DESCRIPTION:The focus of Living On support groups is to express feelings and experiences related to the loss of\na loved one in a supportive\, caring\, and non-judgmental environment. Grief and loss topics are\naddressed as they arise\, depending on the interests of those attending the group. \n1st & 3rd Thursday of the month • 1:30pm – 3pm\nRSVP with Jackie Morris • 313-578-6328 • jmorris@hom.org
URL:https://www.hom.org/event/living-on-general-loss-group-2/2027-05-06/
LOCATION:Virtual Event
CATEGORIES:Grief Support
ORGANIZER;CN="Jackie Morris":MAILTO:jmorris@hom.org
END:VEVENT
BEGIN:VEVENT
DTSTART;TZID=America/Detroit:20270510T180000
DTEND;TZID=America/Detroit:20270510T191500
DTSTAMP:20260420T104536
CREATED:20231128T192630Z
LAST-MODIFIED:20240820T184643Z
UID:10002787-1809972000-1809976500@www.hom.org
SUMMARY:Living On (Virtual)
DESCRIPTION:The focus of this Living On support group is to express feelings and experiences related to the loss of a loved one in a supportive\, caring\, and non-judgmental environment. Grief and loss topics are addressed as they arise\, depending n the interests of those attending the group. RSVP to Margie Martin at 734.769.5821 or mmartin@arborhospice.org
URL:https://www.hom.org/event/living-on-virtual-4/2027-05-10/
LOCATION:Virtual Event
CATEGORIES:Grief Support
ORGANIZER;CN="Margie Martin":MAILTO:mmartin@arborhospice.org
END:VEVENT
BEGIN:VEVENT
DTSTART;TZID=America/Detroit:20270510T183000
DTEND;TZID=America/Detroit:20270510T200000
DTSTAMP:20260420T104536
CREATED:20231128T162827Z
LAST-MODIFIED:20231128T163322Z
UID:10001438-1809973800-1809979200@www.hom.org
SUMMARY:Living On - Loss of a Parent (Virtual)
DESCRIPTION:An open\, ongoing support group that meets monthly to discuss grief and loss as it pertains to the death of a parent.  \nPlease RSVP with Melissa McCreedy at mmccreedy@arborhospice.org
URL:https://www.hom.org/event/living-on-loss-of-a-parent-virtual-2-2/2027-05-10/
LOCATION:Virtual Event
CATEGORIES:Grief Support
ORGANIZER;CN="Melissa McCreedy":MAILTO:mmccreedy@arborhospice.org
END:VEVENT
BEGIN:VEVENT
DTSTART;TZID=America/Detroit:20270511T103000
DTEND;TZID=America/Detroit:20270511T113000
DTSTAMP:20260420T104536
CREATED:20241218T213408Z
LAST-MODIFIED:20241218T213408Z
UID:10003556-1810031400-1810035000@www.hom.org
SUMMARY:LIVING ON - GENERAL LOSS GROUPS
DESCRIPTION:The focus of Living On support groups is to express feelings and experiences related to the loss of\na loved one in a supportive\, caring\, and non-judgmental environment. Grief and loss topics are\naddressed as they arise\, depending on the interests of those attending the group. \n4th Tuesday of the month • 10:30am – 11:30am\nRSVP with Meredith Hartmann • 734-709-3088\nmhartmann@arborhospice.org
URL:https://www.hom.org/event/living-on-general-loss-groups/2027-05-11/
LOCATION:Virtual Event
CATEGORIES:Grief Support
ORGANIZER;CN="Meredith Hartmann":MAILTO:mhartmann@arborhospice.org
END:VEVENT
BEGIN:VEVENT
DTSTART;TZID=America/Detroit:20270511T183000
DTEND;TZID=America/Detroit:20270511T193000
DTSTAMP:20260420T104536
CREATED:20240409T204445Z
LAST-MODIFIED:20240409T204445Z
UID:10002336-1810060200-1810063800@www.hom.org
SUMMARY:Grief After Dementia - Grief Support Group (Virtual)
DESCRIPTION:Losing someone after a dementia-related illness can be a unique grief experience. This program is presented in partnership with the Alzheimer’s Association of Michigan.\nThis group meets virtually the 2nd Tuesday of the month 6:30pm – 7:30pm\nPlease RSVP with Alexandra Irwin 231-527-0913 • airwin@hom.org
URL:https://www.hom.org/event/grief-after-dementia-grief-support-group-virtual/2027-05-11/
LOCATION:Virtual Event
CATEGORIES:Grief Support
ORGANIZER;CN="Alexandra Irwin":MAILTO:airwin@hom.org
END:VEVENT
BEGIN:VEVENT
DTSTART;TZID=America/Detroit:20270513T103000
DTEND;TZID=America/Detroit:20270513T113000
DTSTAMP:20260420T104536
CREATED:20240409T202425Z
LAST-MODIFIED:20240820T190143Z
UID:10002093-1810204200-1810207800@www.hom.org
SUMMARY:Living On - Loss of an Adult Child - Grief Support Group (Virtual)
DESCRIPTION:The focus of Living On support groups is to express feelings and experiences related to the loss of a loved one in a supportive\, caring\, and non-judgmental environment. Grief and loss topics are addressed as they arise\, depending on the interests of those attending the group.  \nThis open\, ongoing group that meets virtually monthly to discuss grief and loss as it pertains to the death of an adult child.\nThis group meets the 2nd Thursday of the month • 10:30am – 11:30am RSVP with Will Gasper • 231-444-3350 • wgasper@hom.org
URL:https://www.hom.org/event/living-on-adult-child-grief-support-group-virtual/2027-05-13/
LOCATION:Virtual Event
CATEGORIES:Grief Support
ORGANIZER;CN="Will Gasper":MAILTO:wgasper@hom.org
END:VEVENT
BEGIN:VEVENT
DTSTART;TZID=America/Detroit:20270513T133000
DTEND;TZID=America/Detroit:20270513T150000
DTSTAMP:20260420T104536
CREATED:20241218T214132Z
LAST-MODIFIED:20250106T193236Z
UID:10003824-1810215000-1810220400@www.hom.org
SUMMARY:Living On - General Loss Group
DESCRIPTION:The focus of Living On support groups is to express feelings and experiences related to the loss of\na loved one in a supportive\, caring\, and non-judgmental environment. Grief and loss topics are\naddressed as they arise\, depending on the interests of those attending the group. \n1st & 3rd Thursday of the month • 1:30pm – 3pm\nRSVP with Jackie Morris • 313-578-6328 • jmorris@hom.org
URL:https://www.hom.org/event/living-on-general-loss-group-2/2027-05-13/
LOCATION:Virtual Event
CATEGORIES:Grief Support
ORGANIZER;CN="Jackie Morris":MAILTO:jmorris@hom.org
END:VEVENT
BEGIN:VEVENT
DTSTART;TZID=America/Detroit:20270518T103000
DTEND;TZID=America/Detroit:20270518T113000
DTSTAMP:20260420T104536
CREATED:20241218T213408Z
LAST-MODIFIED:20241218T213408Z
UID:10003557-1810636200-1810639800@www.hom.org
SUMMARY:LIVING ON - GENERAL LOSS GROUPS
DESCRIPTION:The focus of Living On support groups is to express feelings and experiences related to the loss of\na loved one in a supportive\, caring\, and non-judgmental environment. Grief and loss topics are\naddressed as they arise\, depending on the interests of those attending the group. \n4th Tuesday of the month • 10:30am – 11:30am\nRSVP with Meredith Hartmann • 734-709-3088\nmhartmann@arborhospice.org
URL:https://www.hom.org/event/living-on-general-loss-groups/2027-05-18/
LOCATION:Virtual Event
CATEGORIES:Grief Support
ORGANIZER;CN="Meredith Hartmann":MAILTO:mhartmann@arborhospice.org
END:VEVENT
BEGIN:VEVENT
DTSTART;TZID=America/Detroit:20270520T133000
DTEND;TZID=America/Detroit:20270520T150000
DTSTAMP:20260420T104536
CREATED:20241218T214132Z
LAST-MODIFIED:20250106T193236Z
UID:10003825-1810819800-1810825200@www.hom.org
SUMMARY:Living On - General Loss Group
DESCRIPTION:The focus of Living On support groups is to express feelings and experiences related to the loss of\na loved one in a supportive\, caring\, and non-judgmental environment. Grief and loss topics are\naddressed as they arise\, depending on the interests of those attending the group. \n1st & 3rd Thursday of the month • 1:30pm – 3pm\nRSVP with Jackie Morris • 313-578-6328 • jmorris@hom.org
URL:https://www.hom.org/event/living-on-general-loss-group-2/2027-05-20/
LOCATION:Virtual Event
CATEGORIES:Grief Support
ORGANIZER;CN="Jackie Morris":MAILTO:jmorris@hom.org
END:VEVENT
BEGIN:VEVENT
DTSTART;TZID=America/Detroit:20270525T103000
DTEND;TZID=America/Detroit:20270525T113000
DTSTAMP:20260420T104536
CREATED:20241218T213408Z
LAST-MODIFIED:20241218T213408Z
UID:10003558-1811241000-1811244600@www.hom.org
SUMMARY:LIVING ON - GENERAL LOSS GROUPS
DESCRIPTION:The focus of Living On support groups is to express feelings and experiences related to the loss of\na loved one in a supportive\, caring\, and non-judgmental environment. Grief and loss topics are\naddressed as they arise\, depending on the interests of those attending the group. \n4th Tuesday of the month • 10:30am – 11:30am\nRSVP with Meredith Hartmann • 734-709-3088\nmhartmann@arborhospice.org
URL:https://www.hom.org/event/living-on-general-loss-groups/2027-05-25/
LOCATION:Virtual Event
CATEGORIES:Grief Support
ORGANIZER;CN="Meredith Hartmann":MAILTO:mhartmann@arborhospice.org
END:VEVENT
BEGIN:VEVENT
DTSTART;TZID=America/Detroit:20270527T133000
DTEND;TZID=America/Detroit:20270527T150000
DTSTAMP:20260420T104536
CREATED:20241218T214132Z
LAST-MODIFIED:20250106T193236Z
UID:10003826-1811424600-1811430000@www.hom.org
SUMMARY:Living On - General Loss Group
DESCRIPTION:The focus of Living On support groups is to express feelings and experiences related to the loss of\na loved one in a supportive\, caring\, and non-judgmental environment. Grief and loss topics are\naddressed as they arise\, depending on the interests of those attending the group. \n1st & 3rd Thursday of the month • 1:30pm – 3pm\nRSVP with Jackie Morris • 313-578-6328 • jmorris@hom.org
URL:https://www.hom.org/event/living-on-general-loss-group-2/2027-05-27/
LOCATION:Virtual Event
CATEGORIES:Grief Support
ORGANIZER;CN="Jackie Morris":MAILTO:jmorris@hom.org
END:VEVENT
BEGIN:VEVENT
DTSTART;TZID=America/Detroit:20270601T103000
DTEND;TZID=America/Detroit:20270601T113000
DTSTAMP:20260420T104536
CREATED:20241218T213408Z
LAST-MODIFIED:20241218T213408Z
UID:10003559-1811845800-1811849400@www.hom.org
SUMMARY:LIVING ON - GENERAL LOSS GROUPS
DESCRIPTION:The focus of Living On support groups is to express feelings and experiences related to the loss of\na loved one in a supportive\, caring\, and non-judgmental environment. Grief and loss topics are\naddressed as they arise\, depending on the interests of those attending the group. \n4th Tuesday of the month • 10:30am – 11:30am\nRSVP with Meredith Hartmann • 734-709-3088\nmhartmann@arborhospice.org
URL:https://www.hom.org/event/living-on-general-loss-groups/2027-06-01/
LOCATION:Virtual Event
CATEGORIES:Grief Support
ORGANIZER;CN="Meredith Hartmann":MAILTO:mhartmann@arborhospice.org
END:VEVENT
END:VCALENDAR