BEGIN:VCALENDAR
VERSION:2.0
PRODID:-//Hospice of Michigan - ECPv6.15.20//NONSGML v1.0//EN
CALSCALE:GREGORIAN
METHOD:PUBLISH
X-ORIGINAL-URL:https://www.hom.org
X-WR-CALDESC:Events for Hospice of Michigan
REFRESH-INTERVAL;VALUE=DURATION:PT1H
X-Robots-Tag:noindex
X-PUBLISHED-TTL:PT1H
BEGIN:VTIMEZONE
TZID:America/Detroit
BEGIN:DAYLIGHT
TZOFFSETFROM:-0500
TZOFFSETTO:-0400
TZNAME:EDT
DTSTART:20220313T070000
END:DAYLIGHT
BEGIN:STANDARD
TZOFFSETFROM:-0400
TZOFFSETTO:-0500
TZNAME:EST
DTSTART:20221106T060000
END:STANDARD
BEGIN:DAYLIGHT
TZOFFSETFROM:-0500
TZOFFSETTO:-0400
TZNAME:EDT
DTSTART:20230312T070000
END:DAYLIGHT
BEGIN:STANDARD
TZOFFSETFROM:-0400
TZOFFSETTO:-0500
TZNAME:EST
DTSTART:20231105T060000
END:STANDARD
BEGIN:DAYLIGHT
TZOFFSETFROM:-0500
TZOFFSETTO:-0400
TZNAME:EDT
DTSTART:20240310T070000
END:DAYLIGHT
BEGIN:STANDARD
TZOFFSETFROM:-0400
TZOFFSETTO:-0500
TZNAME:EST
DTSTART:20241103T060000
END:STANDARD
END:VTIMEZONE
BEGIN:VEVENT
DTSTART;TZID=America/Detroit:20231226T183000
DTEND;TZID=America/Detroit:20231226T193000
DTSTAMP:20260420T004543
CREATED:20230807T185722Z
LAST-MODIFIED:20231002T203719Z
UID:10001352-1703615400-1703619000@www.hom.org
SUMMARY:Living On - Loss of a Parent (Virtual)
DESCRIPTION:An open\, ongoing support group that meets monthly to discuss grief and loss as it pertains to the death of a parent.  \nPlease RSVP with David Keller at 231.527.0913 or dkeller@hom.org
URL:https://www.hom.org/event/living-on-loss-of-a-parent-virtual/2023-12-26/
LOCATION:Virtual Event
CATEGORIES:Grief Support
ORGANIZER;CN="David Keller":MAILTO:dkeller@hom.org
END:VEVENT
BEGIN:VEVENT
DTSTART;TZID=America/Detroit:20231213T183000
DTEND;TZID=America/Detroit:20231213T193000
DTSTAMP:20260420T004543
CREATED:20230807T185722Z
LAST-MODIFIED:20231002T203719Z
UID:10001351-1702492200-1702495800@www.hom.org
SUMMARY:Living On - Loss of a Parent (Virtual)
DESCRIPTION:An open\, ongoing support group that meets monthly to discuss grief and loss as it pertains to the death of a parent.  \nPlease RSVP with David Keller at 231.527.0913 or dkeller@hom.org
URL:https://www.hom.org/event/living-on-loss-of-a-parent-virtual/2023-12-13/
LOCATION:Virtual Event
CATEGORIES:Grief Support
ORGANIZER;CN="David Keller":MAILTO:dkeller@hom.org
END:VEVENT
BEGIN:VEVENT
DTSTART;TZID=America/Detroit:20231128T183000
DTEND;TZID=America/Detroit:20231128T193000
DTSTAMP:20260420T004543
CREATED:20230807T185722Z
LAST-MODIFIED:20231002T203719Z
UID:10001350-1701196200-1701199800@www.hom.org
SUMMARY:Living On - Loss of a Parent (Virtual)
DESCRIPTION:An open\, ongoing support group that meets monthly to discuss grief and loss as it pertains to the death of a parent.  \nPlease RSVP with David Keller at 231.527.0913 or dkeller@hom.org
URL:https://www.hom.org/event/living-on-loss-of-a-parent-virtual/2023-11-28/
LOCATION:Virtual Event
CATEGORIES:Grief Support
ORGANIZER;CN="David Keller":MAILTO:dkeller@hom.org
END:VEVENT
BEGIN:VEVENT
DTSTART;TZID=America/Detroit:20231108T183000
DTEND;TZID=America/Detroit:20231108T193000
DTSTAMP:20260420T004543
CREATED:20230807T185722Z
LAST-MODIFIED:20231002T203719Z
UID:10001349-1699468200-1699471800@www.hom.org
SUMMARY:Living On - Loss of a Parent (Virtual)
DESCRIPTION:An open\, ongoing support group that meets monthly to discuss grief and loss as it pertains to the death of a parent.  \nPlease RSVP with David Keller at 231.527.0913 or dkeller@hom.org
URL:https://www.hom.org/event/living-on-loss-of-a-parent-virtual/2023-11-08/
LOCATION:Virtual Event
CATEGORIES:Grief Support
ORGANIZER;CN="David Keller":MAILTO:dkeller@hom.org
END:VEVENT
BEGIN:VEVENT
DTSTART;TZID=America/Detroit:20231024T183000
DTEND;TZID=America/Detroit:20231024T193000
DTSTAMP:20260420T004543
CREATED:20230807T185722Z
LAST-MODIFIED:20231002T203719Z
UID:10001348-1698172200-1698175800@www.hom.org
SUMMARY:Living On - Loss of a Parent (Virtual)
DESCRIPTION:An open\, ongoing support group that meets monthly to discuss grief and loss as it pertains to the death of a parent.  \nPlease RSVP with David Keller at 231.527.0913 or dkeller@hom.org
URL:https://www.hom.org/event/living-on-loss-of-a-parent-virtual/2023-10-24/
LOCATION:Virtual Event
CATEGORIES:Grief Support
ORGANIZER;CN="David Keller":MAILTO:dkeller@hom.org
END:VEVENT
BEGIN:VEVENT
DTSTART;TZID=America/Detroit:20231011T183000
DTEND;TZID=America/Detroit:20231011T193000
DTSTAMP:20260420T004543
CREATED:20230807T185722Z
LAST-MODIFIED:20231002T203719Z
UID:10001347-1697049000-1697052600@www.hom.org
SUMMARY:Living On - Loss of a Parent (Virtual)
DESCRIPTION:An open\, ongoing support group that meets monthly to discuss grief and loss as it pertains to the death of a parent.  \nPlease RSVP with David Keller at 231.527.0913 or dkeller@hom.org
URL:https://www.hom.org/event/living-on-loss-of-a-parent-virtual/2023-10-11/
LOCATION:Virtual Event
CATEGORIES:Grief Support
ORGANIZER;CN="David Keller":MAILTO:dkeller@hom.org
END:VEVENT
BEGIN:VEVENT
DTSTART;TZID=America/Detroit:20230926T183000
DTEND;TZID=America/Detroit:20230926T193000
DTSTAMP:20260420T004543
CREATED:20230807T185722Z
LAST-MODIFIED:20231002T203719Z
UID:10001346-1695753000-1695756600@www.hom.org
SUMMARY:Living On - Loss of a Parent (Virtual)
DESCRIPTION:An open\, ongoing support group that meets monthly to discuss grief and loss as it pertains to the death of a parent.  \nPlease RSVP with David Keller at 231.527.0913 or dkeller@hom.org
URL:https://www.hom.org/event/living-on-loss-of-a-parent-virtual/2023-09-26/
LOCATION:Virtual Event
CATEGORIES:Grief Support
ORGANIZER;CN="David Keller":MAILTO:dkeller@hom.org
END:VEVENT
BEGIN:VEVENT
DTSTART;TZID=America/Detroit:20230913T183000
DTEND;TZID=America/Detroit:20230913T193000
DTSTAMP:20260420T004543
CREATED:20230807T185722Z
LAST-MODIFIED:20231002T203719Z
UID:10001345-1694629800-1694633400@www.hom.org
SUMMARY:Living On - Loss of a Parent (Virtual)
DESCRIPTION:An open\, ongoing support group that meets monthly to discuss grief and loss as it pertains to the death of a parent.  \nPlease RSVP with David Keller at 231.527.0913 or dkeller@hom.org
URL:https://www.hom.org/event/living-on-loss-of-a-parent-virtual/2023-09-13/
LOCATION:Virtual Event
CATEGORIES:Grief Support
ORGANIZER;CN="David Keller":MAILTO:dkeller@hom.org
END:VEVENT
BEGIN:VEVENT
DTSTART;TZID=America/Detroit:20230822T183000
DTEND;TZID=America/Detroit:20230822T193000
DTSTAMP:20260420T004543
CREATED:20230808T154935Z
LAST-MODIFIED:20230808T154935Z
UID:10001366-1692729000-1692732600@www.hom.org
SUMMARY:Living On - Adult Loss of Parent (Virtual)
DESCRIPTION:An open\, ongoing group for people who have lost a parent.\nPlease RSVP with David Keller at 231.527.0913 or dkeller@hom.org
URL:https://www.hom.org/event/living-on-adult-loss-of-parent-virtual/
LOCATION:Virtual Event
CATEGORIES:Grief Support
ORGANIZER;CN="David Keller":MAILTO:dkeller@hom.org
END:VEVENT
BEGIN:VEVENT
DTSTART;TZID=America/Detroit:20230810T103000
DTEND;TZID=America/Detroit:20230810T114500
DTSTAMP:20260420T004543
CREATED:20230808T155132Z
LAST-MODIFIED:20230808T155132Z
UID:10001367-1691663400-1691667900@www.hom.org
SUMMARY:Living On -Loss of Adult Child (Virtual)
DESCRIPTION:An open\, ongoing group for people who have lost an Adult Child. \nPlease RSVP with David Keller at 231.527.0913 or dkeller@hom.org
URL:https://www.hom.org/event/living-on-loss-of-adult-child-virtual/
LOCATION:Virtual Event
CATEGORIES:Grief Support
ORGANIZER;CN="David Keller":MAILTO:dkeller@hom.org
END:VEVENT
END:VCALENDAR