BEGIN:VCALENDAR
VERSION:2.0
PRODID:-//Hospice of Michigan - ECPv6.15.20//NONSGML v1.0//EN
CALSCALE:GREGORIAN
METHOD:PUBLISH
X-ORIGINAL-URL:https://www.hom.org
X-WR-CALDESC:Events for Hospice of Michigan
REFRESH-INTERVAL;VALUE=DURATION:PT1H
X-Robots-Tag:noindex
X-PUBLISHED-TTL:PT1H
BEGIN:VTIMEZONE
TZID:America/Detroit
BEGIN:DAYLIGHT
TZOFFSETFROM:-0500
TZOFFSETTO:-0400
TZNAME:EDT
DTSTART:20250309T070000
END:DAYLIGHT
BEGIN:STANDARD
TZOFFSETFROM:-0400
TZOFFSETTO:-0500
TZNAME:EST
DTSTART:20251102T060000
END:STANDARD
BEGIN:DAYLIGHT
TZOFFSETFROM:-0500
TZOFFSETTO:-0400
TZNAME:EDT
DTSTART:20260308T070000
END:DAYLIGHT
BEGIN:STANDARD
TZOFFSETFROM:-0400
TZOFFSETTO:-0500
TZNAME:EST
DTSTART:20261101T060000
END:STANDARD
BEGIN:DAYLIGHT
TZOFFSETFROM:-0500
TZOFFSETTO:-0400
TZNAME:EDT
DTSTART:20270314T070000
END:DAYLIGHT
BEGIN:STANDARD
TZOFFSETFROM:-0400
TZOFFSETTO:-0500
TZNAME:EST
DTSTART:20271107T060000
END:STANDARD
END:VTIMEZONE
BEGIN:VEVENT
DTSTART;TZID=America/Detroit:20260420T173000
DTEND;TZID=America/Detroit:20260420T190000
DTSTAMP:20260419T124145
CREATED:20231128T201521Z
LAST-MODIFIED:20240820T182859Z
UID:10002203-1776706200-1776711600@www.hom.org
SUMMARY:Miscarriage\, Stillbirth & Early Infancy Grief Support
DESCRIPTION:A support group facilitated by a Gilda’s Club social worker who invites sharing and connection for those who are grieving any perinatal death which includes miscarriage\, stillbirth\, and early infancy death. Partners and spouses are welcome. \nThis support group meets in person at Gilda’s Club in Grand Rapids on the 3rd Monday of each month. Free supper is provided at 5:30 p.m. prior to the group time and supervised playtime is available for youth ages 10 and under. \nFor more information or to join\, call 616.453.8300 or contact info@gildasclub.org
URL:https://www.hom.org/event/miscarriage-stillbirth-early-infancy-grief-support/2026-04-20/
LOCATION:Gilda’s Club Grand Rapids\, 1806 Bridge Street\, NW\, Grand Rapids\, United States
CATEGORIES:Grief Support
END:VEVENT
BEGIN:VEVENT
DTSTART;TZID=America/Detroit:20260421T103000
DTEND;TZID=America/Detroit:20260421T113000
DTSTAMP:20260419T124145
CREATED:20241218T213408Z
LAST-MODIFIED:20241218T213408Z
UID:10003501-1776767400-1776771000@www.hom.org
SUMMARY:LIVING ON - GENERAL LOSS GROUPS
DESCRIPTION:The focus of Living On support groups is to express feelings and experiences related to the loss of\na loved one in a supportive\, caring\, and non-judgmental environment. Grief and loss topics are\naddressed as they arise\, depending on the interests of those attending the group. \n4th Tuesday of the month • 10:30am – 11:30am\nRSVP with Meredith Hartmann • 734-709-3088\nmhartmann@arborhospice.org
URL:https://www.hom.org/event/living-on-general-loss-groups/2026-04-21/
LOCATION:Virtual Event
CATEGORIES:Grief Support
ORGANIZER;CN="Meredith Hartmann":MAILTO:mhartmann@arborhospice.org
END:VEVENT
BEGIN:VEVENT
DTSTART;TZID=America/Detroit:20260421T130000
DTEND;TZID=America/Detroit:20260421T143000
DTSTAMP:20260419T124145
CREATED:20240409T182625Z
LAST-MODIFIED:20240409T182633Z
UID:10001796-1776776400-1776781800@www.hom.org
SUMMARY:Living On - Grief Support Group
DESCRIPTION:The focus of Living On support groups is to express feelings and experiences related to the loss of a loved one in a supportive\, caring\, and non-judgmental environment. Grief and loss topics are addressed as they arise\, depending on the interests of those attending the group.  \nThis group meets the 3rd Tuesday of the month • 1pm – 2:30pm at Eton Senior Recreation Center • 4900 Pardee Ave.\, Dearborn Hts.\nPlease RSVP with Jackie Morris • 313-578-6328 • jmorris@hom.org
URL:https://www.hom.org/event/living-on-grief-support-group-3/2026-04-21/
LOCATION:Eton Senior Community Center\, 4900 Pardee Avenue\, Dearborn Heights\, MI\, 48125\, United States
CATEGORIES:Grief Support
ORGANIZER;CN="Jackie Morris":MAILTO:jmorris@hom.org
END:VEVENT
BEGIN:VEVENT
DTSTART;TZID=America/Detroit:20260421T180000
DTEND;TZID=America/Detroit:20260421T193000
DTSTAMP:20260419T124145
CREATED:20240409T204050Z
LAST-MODIFIED:20240409T204156Z
UID:10002263-1776794400-1776799800@www.hom.org
SUMMARY:Men Overcoming Loss - Grief Support Group (Virtual and In Person)
DESCRIPTION:This support group is designed for men who are dealing with the death of a loved one. Join in-person or virtually from your computer or mobile device.\nThis group meets the 3rd Tuesday of the month • 6pm – 7:30pm\nPlease RSVP with Will Gasper • 231-444-3350 wgasper@hom.org
URL:https://www.hom.org/event/men-overcoming-loss-grief-support-group-virtual/2026-04-21/
LOCATION:Hospice of Michigan-Cadillac\, 932 N. Mitchell Street\, Cadillac\, MI
CATEGORIES:Grief Support
ORGANIZER;CN="Will Gasper":MAILTO:wgasper@hom.org
END:VEVENT
BEGIN:VEVENT
DTSTART;TZID=America/Detroit:20260422T180000
DTEND;TZID=America/Detroit:20260422T193000
DTSTAMP:20260419T124145
CREATED:20241218T204731Z
LAST-MODIFIED:20250106T180816Z
UID:10003368-1776880800-1776886200@www.hom.org
SUMMARY:Journey Through Grief (Virtual)
DESCRIPTION:This weekly support group explores the Six Needs of Mourning by Dr. Alan Wolfelt. •\nAcknowledge the reality of death • Embrace the pain of loss • Remember the person \nAcknowledge the reality of death • Embrace the pain of loss • Remember the person\nwho died • Develop a new identity • Search for meaning • Receive ongoing support\nfrom others. No new members will be admitted to this group after the 2nd week.\nRegistration is required.\nEvery Wednesday; March 26 – April 30\, 2025 • 6pm – 7:30pm\nRSVP with Jackie Morris • 313-578-6328 • jmorris@hom.org
URL:https://www.hom.org/event/journey-through-grief-in-person-2/2026-04-22/
LOCATION:Virtual Event
CATEGORIES:Grief Support
ORGANIZER;CN="Jackie Morris":MAILTO:jmorris@hom.org
END:VEVENT
BEGIN:VEVENT
DTSTART;TZID=America/Detroit:20260423T133000
DTEND;TZID=America/Detroit:20260423T150000
DTSTAMP:20260419T124145
CREATED:20241218T214132Z
LAST-MODIFIED:20250106T193236Z
UID:10003769-1776951000-1776956400@www.hom.org
SUMMARY:Living On - General Loss Group
DESCRIPTION:The focus of Living On support groups is to express feelings and experiences related to the loss of\na loved one in a supportive\, caring\, and non-judgmental environment. Grief and loss topics are\naddressed as they arise\, depending on the interests of those attending the group. \n1st & 3rd Thursday of the month • 1:30pm – 3pm\nRSVP with Jackie Morris • 313-578-6328 • jmorris@hom.org
URL:https://www.hom.org/event/living-on-general-loss-group-2/2026-04-23/
LOCATION:Virtual Event
CATEGORIES:Grief Support
ORGANIZER;CN="Jackie Morris":MAILTO:jmorris@hom.org
END:VEVENT
BEGIN:VEVENT
DTSTART;TZID=America/Detroit:20260427T110000
DTEND;TZID=America/Detroit:20260427T123000
DTSTAMP:20260419T124145
CREATED:20250106T194236Z
LAST-MODIFIED:20250106T194236Z
UID:10005759-1777287600-1777293000@www.hom.org
SUMMARY:Walking Through Grief
DESCRIPTION:Social support and physical activity are two of the most important\ncomponents of mental health\, especially while grieving. This monthly\,\nsocially-focused group gives grieving adults the opportunity to\nsocialize\, support one another in grief\, while getting fresh air and\nexercise. All activity levels are welcome. Individuals can walk at their\nown pace.\n4th Monday of the month • 11am – 12:30pm\nOtsego county Sportsplex • 1250 Gornick Ave. Gaylord\nRSVP with Tavia Mulholland\n9897-705-2603 • taviamulholland@hom.org
URL:https://www.hom.org/event/walking-through-grief/2026-04-27/
LOCATION:Otsego County Sportsplex\, 1250 Gornick Avenue\, Gaylord\, United States
CATEGORIES:Grief Support
ORGANIZER;CN="Tavia Mulholland":MAILTO:tmulholland@hom.org
END:VEVENT
BEGIN:VEVENT
DTSTART;TZID=America/Detroit:20260428T103000
DTEND;TZID=America/Detroit:20260428T113000
DTSTAMP:20260419T124145
CREATED:20241218T213408Z
LAST-MODIFIED:20241218T213408Z
UID:10003502-1777372200-1777375800@www.hom.org
SUMMARY:LIVING ON - GENERAL LOSS GROUPS
DESCRIPTION:The focus of Living On support groups is to express feelings and experiences related to the loss of\na loved one in a supportive\, caring\, and non-judgmental environment. Grief and loss topics are\naddressed as they arise\, depending on the interests of those attending the group. \n4th Tuesday of the month • 10:30am – 11:30am\nRSVP with Meredith Hartmann • 734-709-3088\nmhartmann@arborhospice.org
URL:https://www.hom.org/event/living-on-general-loss-groups/2026-04-28/
LOCATION:Virtual Event
CATEGORIES:Grief Support
ORGANIZER;CN="Meredith Hartmann":MAILTO:mhartmann@arborhospice.org
END:VEVENT
BEGIN:VEVENT
DTSTART;TZID=America/Detroit:20260428T170000
DTEND;TZID=America/Detroit:20260428T180000
DTSTAMP:20260419T124145
CREATED:20240409T213956Z
LAST-MODIFIED:20240409T214038Z
UID:10002507-1777395600-1777399200@www.hom.org
SUMMARY:THE SUPPER CLUB
DESCRIPTION:Hospice of Michigan offers this social group for individuals who have lost a spouse or partner and are interested in making new friends and sharing a meal together.\nThis group meets the 4th Tuesday of the month 5pm – 6pm at various restaurants in Northern Oakland County\nPlease RSVP with Cindy Palmer 248-334-1323 • cpalmer@hom.org\nContact Cindy for details regarding location.
URL:https://www.hom.org/event/the-supper-club/2026-04-28/
LOCATION:MI
CATEGORIES:Grief Support
ORGANIZER;CN="Cynthia Palmer":MAILTO:cpalmer@hom.org
END:VEVENT
BEGIN:VEVENT
DTSTART;TZID=America/Detroit:20260429T180000
DTEND;TZID=America/Detroit:20260429T193000
DTSTAMP:20260419T124145
CREATED:20241218T204731Z
LAST-MODIFIED:20250106T180816Z
UID:10003369-1777485600-1777491000@www.hom.org
SUMMARY:Journey Through Grief (Virtual)
DESCRIPTION:This weekly support group explores the Six Needs of Mourning by Dr. Alan Wolfelt. •\nAcknowledge the reality of death • Embrace the pain of loss • Remember the person \nAcknowledge the reality of death • Embrace the pain of loss • Remember the person\nwho died • Develop a new identity • Search for meaning • Receive ongoing support\nfrom others. No new members will be admitted to this group after the 2nd week.\nRegistration is required.\nEvery Wednesday; March 26 – April 30\, 2025 • 6pm – 7:30pm\nRSVP with Jackie Morris • 313-578-6328 • jmorris@hom.org
URL:https://www.hom.org/event/journey-through-grief-in-person-2/2026-04-29/
LOCATION:Virtual Event
CATEGORIES:Grief Support
ORGANIZER;CN="Jackie Morris":MAILTO:jmorris@hom.org
END:VEVENT
BEGIN:VEVENT
DTSTART;TZID=America/Detroit:20260430T133000
DTEND;TZID=America/Detroit:20260430T150000
DTSTAMP:20260419T124145
CREATED:20241218T214132Z
LAST-MODIFIED:20250106T193236Z
UID:10003770-1777555800-1777561200@www.hom.org
SUMMARY:Living On - General Loss Group
DESCRIPTION:The focus of Living On support groups is to express feelings and experiences related to the loss of\na loved one in a supportive\, caring\, and non-judgmental environment. Grief and loss topics are\naddressed as they arise\, depending on the interests of those attending the group. \n1st & 3rd Thursday of the month • 1:30pm – 3pm\nRSVP with Jackie Morris • 313-578-6328 • jmorris@hom.org
URL:https://www.hom.org/event/living-on-general-loss-group-2/2026-04-30/
LOCATION:Virtual Event
CATEGORIES:Grief Support
ORGANIZER;CN="Jackie Morris":MAILTO:jmorris@hom.org
END:VEVENT
END:VCALENDAR