BEGIN:VCALENDAR
VERSION:2.0
PRODID:-//Hospice of Michigan - ECPv6.15.20//NONSGML v1.0//EN
CALSCALE:GREGORIAN
METHOD:PUBLISH
X-WR-CALNAME:Hospice of Michigan
X-ORIGINAL-URL:https://www.hom.org
X-WR-CALDESC:Events for Hospice of Michigan
REFRESH-INTERVAL;VALUE=DURATION:PT1H
X-Robots-Tag:noindex
X-PUBLISHED-TTL:PT1H
BEGIN:VTIMEZONE
TZID:America/Detroit
BEGIN:DAYLIGHT
TZOFFSETFROM:-0500
TZOFFSETTO:-0400
TZNAME:EDT
DTSTART:20230312T070000
END:DAYLIGHT
BEGIN:STANDARD
TZOFFSETFROM:-0400
TZOFFSETTO:-0500
TZNAME:EST
DTSTART:20231105T060000
END:STANDARD
BEGIN:DAYLIGHT
TZOFFSETFROM:-0500
TZOFFSETTO:-0400
TZNAME:EDT
DTSTART:20240310T070000
END:DAYLIGHT
BEGIN:STANDARD
TZOFFSETFROM:-0400
TZOFFSETTO:-0500
TZNAME:EST
DTSTART:20241103T060000
END:STANDARD
BEGIN:DAYLIGHT
TZOFFSETFROM:-0500
TZOFFSETTO:-0400
TZNAME:EDT
DTSTART:20250309T070000
END:DAYLIGHT
BEGIN:STANDARD
TZOFFSETFROM:-0400
TZOFFSETTO:-0500
TZNAME:EST
DTSTART:20251102T060000
END:STANDARD
END:VTIMEZONE
BEGIN:VEVENT
DTSTART;TZID=America/Detroit:20241204T120000
DTEND;TZID=America/Detroit:20241204T130000
DTSTAMP:20260420T154406
CREATED:20240820T200045Z
LAST-MODIFIED:20240820T200045Z
UID:10003235-1733313600-1733317200@www.hom.org
SUMMARY:Journey Through Grief (In person)
DESCRIPTION:This series offers a safe place to learn about the six needs of mourning. A Hospice of Michigan Grief Journey Manager will provide education and facilitate conversations. Bring your lunch. Dessert and refreshments will be provided. Registration is required. \nEvery Wednesday; October 2-30\, 2024 • 12pm – 1pm\nHospice of Michigan office • 830 S. Otsego Ave.\, Gaylord\nRSVP: Tavia Mulholland • 989-370-3488 • tmulholland@hom.org
URL:https://www.hom.org/event/journey-through-grief-in-person/2024-12-04/
LOCATION:Hospice of Michigan-Gaylord\, 830 S. Otsego Avenue\, Gaylord\, MI\, 49735
CATEGORIES:Grief Support
ORGANIZER;CN="Tavia Mulholland":MAILTO:tmulholland@hom.org
END:VEVENT
BEGIN:VEVENT
DTSTART;TZID=America/Detroit:20241204T173000
DTEND;TZID=America/Detroit:20241204T183000
DTSTAMP:20260420T154406
CREATED:20240820T192511Z
LAST-MODIFIED:20240820T192511Z
UID:10002955-1733333400-1733337000@www.hom.org
SUMMARY:LIVING ON (In person)
DESCRIPTION:The focus of Living On support groups is to express feelings and experiences related to the loss of a loved one in a supportive\, caring\, and non-judgmental environment. Grief and loss topics are addressed as they arise\, depending on the interests of those attending the group. \n1st Wednesday of the month • 5:30pm – 6:30pm\nHospice of Michigan office • 199 Long Rapids Rd.\, Alpena\nRSVP: Stacy Malenfant • 989-358-4295 • smalenfa@hom.org
URL:https://www.hom.org/event/living-on-in-person-7/2024-12-04/
LOCATION:Hospice of Michigan – Alpena\, 199 Long Rapids Road\, Alpena\, MI\, 49707\, United States
CATEGORIES:Grief Support
ORGANIZER;CN="Stacey Malenfant":MAILTO:smalenfa@hom.org
END:VEVENT
BEGIN:VEVENT
DTSTART;TZID=America/Detroit:20241204T180000
DTEND;TZID=America/Detroit:20241204T191500
DTSTAMP:20260420T154406
CREATED:20240820T182000Z
LAST-MODIFIED:20240820T182000Z
UID:10002670-1733335200-1733339700@www.hom.org
SUMMARY:Hope for the Holidays (Virtual)
DESCRIPTION:This program is designed to offer support to those who are grieving the death of a loved one during a season of memories\, family\, and traditions. Specific strategies for handling special\noccasions and taking care of yourself during this emotionally laden season will be discussed. \nWednesday; December 4\, 2024 • 6pm – 7:15pm\nRSVP: Meredith Hartmann • 734-709-3088\nmhartmann@arborhospice.or
URL:https://www.hom.org/event/hope-for-the-holidays-virtual-3/
LOCATION:Virtual Event
CATEGORIES:Grief Support
ORGANIZER;CN="Meredith Hartmann":MAILTO:mhartmann@arborhospice.org
END:VEVENT
END:VCALENDAR