BEGIN:VCALENDAR
VERSION:2.0
PRODID:-//Hospice of Michigan - ECPv6.15.20//NONSGML v1.0//EN
CALSCALE:GREGORIAN
METHOD:PUBLISH
X-WR-CALNAME:Hospice of Michigan
X-ORIGINAL-URL:https://www.hom.org
X-WR-CALDESC:Events for Hospice of Michigan
REFRESH-INTERVAL;VALUE=DURATION:PT1H
X-Robots-Tag:noindex
X-PUBLISHED-TTL:PT1H
BEGIN:VTIMEZONE
TZID:America/Detroit
BEGIN:DAYLIGHT
TZOFFSETFROM:-0500
TZOFFSETTO:-0400
TZNAME:EDT
DTSTART:20230312T070000
END:DAYLIGHT
BEGIN:STANDARD
TZOFFSETFROM:-0400
TZOFFSETTO:-0500
TZNAME:EST
DTSTART:20231105T060000
END:STANDARD
BEGIN:DAYLIGHT
TZOFFSETFROM:-0500
TZOFFSETTO:-0400
TZNAME:EDT
DTSTART:20240310T070000
END:DAYLIGHT
BEGIN:STANDARD
TZOFFSETFROM:-0400
TZOFFSETTO:-0500
TZNAME:EST
DTSTART:20241103T060000
END:STANDARD
BEGIN:DAYLIGHT
TZOFFSETFROM:-0500
TZOFFSETTO:-0400
TZNAME:EDT
DTSTART:20250309T070000
END:DAYLIGHT
BEGIN:STANDARD
TZOFFSETFROM:-0400
TZOFFSETTO:-0500
TZNAME:EST
DTSTART:20251102T060000
END:STANDARD
END:VTIMEZONE
BEGIN:VEVENT
DTSTART;TZID=America/Detroit:20241127T120000
DTEND;TZID=America/Detroit:20241127T130000
DTSTAMP:20260420T154457
CREATED:20240820T200045Z
LAST-MODIFIED:20240820T200045Z
UID:10003234-1732708800-1732712400@www.hom.org
SUMMARY:Journey Through Grief (In person)
DESCRIPTION:This series offers a safe place to learn about the six needs of mourning. A Hospice of Michigan Grief Journey Manager will provide education and facilitate conversations. Bring your lunch. Dessert and refreshments will be provided. Registration is required. \nEvery Wednesday; October 2-30\, 2024 • 12pm – 1pm\nHospice of Michigan office • 830 S. Otsego Ave.\, Gaylord\nRSVP: Tavia Mulholland • 989-370-3488 • tmulholland@hom.org
URL:https://www.hom.org/event/journey-through-grief-in-person/2024-11-27/
LOCATION:Hospice of Michigan-Gaylord\, 830 S. Otsego Avenue\, Gaylord\, MI\, 49735
CATEGORIES:Grief Support
ORGANIZER;CN="Tavia Mulholland":MAILTO:tmulholland@hom.org
END:VEVENT
BEGIN:VEVENT
DTSTART;TZID=America/Detroit:20241127T130000
DTEND;TZID=America/Detroit:20241127T143000
DTSTAMP:20260420T154457
CREATED:20240820T194646Z
LAST-MODIFIED:20240820T194646Z
UID:10003097-1732712400-1732717800@www.hom.org
SUMMARY:Living On (In person)
DESCRIPTION:The focus of Living On support groups is to express feelings and experiences related to the loss of a loved one in a supportive\, caring\, and non-judgmental environment. Grief and loss topics\nare addressed as they arise\, depending on the interests of those attending the group.  \n2nd and 4th Wed. of the month (begins Oct. 9) • 1pm – 2:30pm\nHospice of Michigan office • 37399 Garfield Rd.\, Clinton Twp\nRSVP: Amanda Layne • 586-263-8514 • alayne@hom.org
URL:https://www.hom.org/event/living-on-in-person-10/2024-11-27/
LOCATION:Hospice of Michigan-Clinton Township\, 37399 Garfield Road\, Suite 208\, Clinton Twp\, 48036
CATEGORIES:Grief Support
ORGANIZER;CN="Amanda Layne":MAILTO:alayne@hom.org
END:VEVENT
BEGIN:VEVENT
DTSTART;TZID=America/Detroit:20241127T133000
DTEND;TZID=America/Detroit:20241127T143000
DTSTAMP:20260420T154457
CREATED:20240820T194252Z
LAST-MODIFIED:20240820T194252Z
UID:10003092-1732714200-1732717800@www.hom.org
SUMMARY:Living On (In person)
DESCRIPTION:The focus of Living On support groups is to express feelings and experiences related to the loss of a loved one in a supportive\, caring\, and non-judgmental environment. Grief and loss topics\nare addressed as they arise\, depending on the interests of those attending the group. \n2nd and 4th Wed. of the month • 1:30pm – 2:30pm\nCostick Activities Center • 28600 W Eleven Mile Rd\, Farmington Hills\nRSVP: Cindy Palmer • 248-334-1323 • cpalmer@hom.org
URL:https://www.hom.org/event/living-on-in-person-9/2024-11-27/
LOCATION:Costick Activities Center\, 28600 W Eleven Mile Road\, Farmington Hills\, MI\, 48336\, United States
CATEGORIES:Grief Support
ORGANIZER;CN="Cynthia Palmer":MAILTO:cpalmer@hom.org
END:VEVENT
END:VCALENDAR