BEGIN:VCALENDAR
VERSION:2.0
PRODID:-//Hospice of Michigan - ECPv6.15.20//NONSGML v1.0//EN
CALSCALE:GREGORIAN
METHOD:PUBLISH
X-ORIGINAL-URL:https://www.hom.org
X-WR-CALDESC:Events for Hospice of Michigan
REFRESH-INTERVAL;VALUE=DURATION:PT1H
X-Robots-Tag:noindex
X-PUBLISHED-TTL:PT1H
BEGIN:VTIMEZONE
TZID:America/Detroit
BEGIN:DAYLIGHT
TZOFFSETFROM:-0500
TZOFFSETTO:-0400
TZNAME:EDT
DTSTART:20230312T070000
END:DAYLIGHT
BEGIN:STANDARD
TZOFFSETFROM:-0400
TZOFFSETTO:-0500
TZNAME:EST
DTSTART:20231105T060000
END:STANDARD
BEGIN:DAYLIGHT
TZOFFSETFROM:-0500
TZOFFSETTO:-0400
TZNAME:EDT
DTSTART:20240310T070000
END:DAYLIGHT
BEGIN:STANDARD
TZOFFSETFROM:-0400
TZOFFSETTO:-0500
TZNAME:EST
DTSTART:20241103T060000
END:STANDARD
BEGIN:DAYLIGHT
TZOFFSETFROM:-0500
TZOFFSETTO:-0400
TZNAME:EDT
DTSTART:20250309T070000
END:DAYLIGHT
BEGIN:STANDARD
TZOFFSETFROM:-0400
TZOFFSETTO:-0500
TZNAME:EST
DTSTART:20251102T060000
END:STANDARD
END:VTIMEZONE
BEGIN:VEVENT
DTSTART;TZID=America/Detroit:20240710T110000
DTEND;TZID=America/Detroit:20240710T123000
DTSTAMP:20260419T180605
CREATED:20231128T200944Z
LAST-MODIFIED:20231128T200944Z
UID:10001593-1720609200-1720614600@www.hom.org
SUMMARY:The Lunch Bunch
DESCRIPTION:The Lunch Bunch is a meal-centered group for individuals who have lost a spouse or partner and are interested in making new friends and sharing a meal together. Please contact us for details regarding location. \nHarringtons By the Bay\n13890 S. W. Bay Shore Drive\nTraverse City \nPlease RSVP with Kjirsten Boeve at 231.929.1557 or kboeve@hom.org
URL:https://www.hom.org/event/the-lunch-bunch/2024-07-10/
LOCATION:Harringtons By The Bay\, 13890 S. W. Bay Shore Drive\, Traverse City\, United States
CATEGORIES:Grief Support
ORGANIZER;CN="Kjirsten Boeve":MAILTO:kboeve@hom.org
END:VEVENT
BEGIN:VEVENT
DTSTART;TZID=America/Detroit:20240710T113000
DTEND;TZID=America/Detroit:20240710T123000
DTSTAMP:20260419T180605
CREATED:20240409T214323Z
LAST-MODIFIED:20240409T214539Z
UID:10002606-1720611000-1720614600@www.hom.org
SUMMARY:The Lunch Bunch
DESCRIPTION:Hospice of Michigan offers this social group for individuals who have lost a spouse or partner and are interested in making new friends and sharing a meal together.\nThis group meets the 2nd Wednesday of the month 11:30am – 12:30pm at various restaurants in Madison Heights\nPlease RSVP with Cindy Palmer 248-334-1323 • cpalmer@hom.org\nContact Cindy for details regarding location.
URL:https://www.hom.org/event/the-lunch-bunch-2/2024-07-10/
LOCATION:MI
CATEGORIES:Grief Support
ORGANIZER;CN="Cynthia Palmer":MAILTO:cpalmer@hom.org
END:VEVENT
BEGIN:VEVENT
DTSTART;TZID=America/Detroit:20240710T120000
DTEND;TZID=America/Detroit:20240710T133000
DTSTAMP:20260419T180605
CREATED:20240409T205158Z
LAST-MODIFIED:20240409T205158Z
UID:10002360-1720612800-1720618200@www.hom.org
SUMMARY:Grief 101
DESCRIPTION:This educational meeting provides important resources and information for those coping with the loss of a loved one. Grief 101 explores what is normal during the grief process\, strategies for coping\, suggestions for self-care and available community support. A complimentary light lunch will be provided.\nThis seminar takes place Wednesday\, July 10\, 2024 • 12pm – 1:30pm at the Hospice of Michigan office 1675 E Mt Garfield Rd. Ste. 175\, Muskegon\nPlease RSVP with Ryan Miller • 616-356-5228 •rymiller@hom.org
URL:https://www.hom.org/event/grief-101-2/
LOCATION:Hospice of Michigan – Muskegon\, 1675 E Mt Garfield Rd\, Suite 175\, Muskegon\, MI\, 49444
CATEGORIES:Grief Support
ORGANIZER;CN="Ryan Miller":MAILTO:rymiller@hom.org
END:VEVENT
BEGIN:VEVENT
DTSTART;TZID=America/Detroit:20240710T133000
DTEND;TZID=America/Detroit:20240710T143000
DTSTAMP:20260419T180605
CREATED:20231027T201735Z
LAST-MODIFIED:20240409T183012Z
UID:10001382-1720618200-1720621800@www.hom.org
SUMMARY:Living On- Grief Support Group
DESCRIPTION:The focus of this Living On support group is to express feelings and experiences related to the loss of a loved one in a supportive\, caring\, and non-judgmental environment.  \nGrief and loss topics are addressed as they arise\, depending on the interests of those attending the group. \nThis is an ongoing group that meets from 1:30-2:30 p.m. the 2nd and 4th Wednesday of each month starting in January. \nLocation:\nCostick Activities Center\, 28600 W Eleven Mile Rd\, Farmington Hills\, MI 48336\nIn person only \nPlease RSVP to Cynthia Palmer at 248-334-1323 or cpalmer@hom.org
URL:https://www.hom.org/event/living-on-grief-support-group-2/2024-07-10/
LOCATION:Costick Activities Center\, 28600 W Eleven Mile Road\, Farmington Hills\, MI\, 48336\, United States
CATEGORIES:Grief Support
ORGANIZER;CN="Cynthia Palmer":MAILTO:cpalmer@hom.org
END:VEVENT
END:VCALENDAR