BEGIN:VCALENDAR
VERSION:2.0
PRODID:-//Hospice of Michigan - ECPv6.15.20//NONSGML v1.0//EN
CALSCALE:GREGORIAN
METHOD:PUBLISH
X-WR-CALNAME:Hospice of Michigan
X-ORIGINAL-URL:https://www.hom.org
X-WR-CALDESC:Events for Hospice of Michigan
REFRESH-INTERVAL;VALUE=DURATION:PT1H
X-Robots-Tag:noindex
X-PUBLISHED-TTL:PT1H
BEGIN:VTIMEZONE
TZID:America/Detroit
BEGIN:DAYLIGHT
TZOFFSETFROM:-0500
TZOFFSETTO:-0400
TZNAME:EDT
DTSTART:20230312T070000
END:DAYLIGHT
BEGIN:STANDARD
TZOFFSETFROM:-0400
TZOFFSETTO:-0500
TZNAME:EST
DTSTART:20231105T060000
END:STANDARD
BEGIN:DAYLIGHT
TZOFFSETFROM:-0500
TZOFFSETTO:-0400
TZNAME:EDT
DTSTART:20240310T070000
END:DAYLIGHT
BEGIN:STANDARD
TZOFFSETFROM:-0400
TZOFFSETTO:-0500
TZNAME:EST
DTSTART:20241103T060000
END:STANDARD
BEGIN:DAYLIGHT
TZOFFSETFROM:-0500
TZOFFSETTO:-0400
TZNAME:EDT
DTSTART:20250309T070000
END:DAYLIGHT
BEGIN:STANDARD
TZOFFSETFROM:-0400
TZOFFSETTO:-0500
TZNAME:EST
DTSTART:20251102T060000
END:STANDARD
END:VTIMEZONE
BEGIN:VEVENT
DTSTART;TZID=America/Detroit:20240306T140000
DTEND;TZID=America/Detroit:20240306T150000
DTSTAMP:20260419T184240
CREATED:20231128T200333Z
LAST-MODIFIED:20231128T200333Z
UID:10001586-1709733600-1709737200@www.hom.org
SUMMARY:Winter Warmth (Virtual)
DESCRIPTION:The cold and gray makes it difficult to grieve during the winter months. This seminar is designed to help you learn more about the importance of cherishing your memories and will focus on how carrying on your loved one’s legacy can help in your healing. \nPlease RSVP to Margie Martin at 734.769.5821 or mmartin@arborhospice.org.
URL:https://www.hom.org/event/winter-warmth-virtual/
LOCATION:Virtual Event
CATEGORIES:Grief Support
ORGANIZER;CN="Margie Martin":MAILTO:mmartin@arborhospice.org
END:VEVENT
END:VCALENDAR