BEGIN:VCALENDAR
VERSION:2.0
PRODID:-//Hospice of Michigan - ECPv6.15.20//NONSGML v1.0//EN
CALSCALE:GREGORIAN
METHOD:PUBLISH
X-ORIGINAL-URL:https://www.hom.org
X-WR-CALDESC:Events for Hospice of Michigan
REFRESH-INTERVAL;VALUE=DURATION:PT1H
X-Robots-Tag:noindex
X-PUBLISHED-TTL:PT1H
BEGIN:VTIMEZONE
TZID:America/Detroit
BEGIN:DAYLIGHT
TZOFFSETFROM:-0500
TZOFFSETTO:-0400
TZNAME:EDT
DTSTART:20230312T070000
END:DAYLIGHT
BEGIN:STANDARD
TZOFFSETFROM:-0400
TZOFFSETTO:-0500
TZNAME:EST
DTSTART:20231105T060000
END:STANDARD
BEGIN:DAYLIGHT
TZOFFSETFROM:-0500
TZOFFSETTO:-0400
TZNAME:EDT
DTSTART:20240310T070000
END:DAYLIGHT
BEGIN:STANDARD
TZOFFSETFROM:-0400
TZOFFSETTO:-0500
TZNAME:EST
DTSTART:20241103T060000
END:STANDARD
BEGIN:DAYLIGHT
TZOFFSETFROM:-0500
TZOFFSETTO:-0400
TZNAME:EDT
DTSTART:20250309T070000
END:DAYLIGHT
BEGIN:STANDARD
TZOFFSETFROM:-0400
TZOFFSETTO:-0500
TZNAME:EST
DTSTART:20251102T060000
END:STANDARD
END:VTIMEZONE
BEGIN:VEVENT
DTSTART;TZID=America/Detroit:20240112T113000
DTEND;TZID=America/Detroit:20240112T130000
DTSTAMP:20260419T195723
CREATED:20230807T162952Z
LAST-MODIFIED:20230911T151231Z
UID:10001247-1705059000-1705064400@www.hom.org
SUMMARY:Living On - In Person
DESCRIPTION:The focus of this Living On support group is to express feelings and experiences related to the loss of a loved one in a supportive\, caring\, and non-judgmental environment. Grief and loss topics are addressed as they arise\, depending on the interests of those attending the group. Please RSVP to Jackie Morris at 313.578.6328 or jmorris@hom.org. \nThis group meets in person the 2nd and 4th Friday of the month.
URL:https://www.hom.org/event/living-on-in-person-2/2024-01-12/
LOCATION:Woodhaven Community Center\, 23101 Hall Road\, Woodhaven\, MI
CATEGORIES:Grief Support
ORGANIZER;CN="Jackie Morris":MAILTO:jmorris@hom.org
END:VEVENT
BEGIN:VEVENT
DTSTART;TZID=America/Detroit:20240112T143000
DTEND;TZID=America/Detroit:20240112T160000
DTSTAMP:20260419T195723
CREATED:20231128T193948Z
LAST-MODIFIED:20231128T193948Z
UID:10001582-1705069800-1705075200@www.hom.org
SUMMARY:Grief 101 (In person)
DESCRIPTION:This educational meeting provides important resources and information for those coping with the loss of a loved one. Grief 101 explores what is normal during the grief process\, strategies for coping\, suggestions for self-care and available community support. \nPlease RSVP with Karen Monts at 313.578.6326 or kmonts@hom.org
URL:https://www.hom.org/event/grief-101-in-person-2/
LOCATION:Town Village\, 4500 Dobry Drive\, Sterling Heights\, United States
CATEGORIES:Grief Support
ORGANIZER;CN="Karen Monts":MAILTO:kmonts@hom.org
END:VEVENT
END:VCALENDAR