BEGIN:VCALENDAR
VERSION:2.0
PRODID:-//Hospice of Michigan - ECPv6.15.20//NONSGML v1.0//EN
CALSCALE:GREGORIAN
METHOD:PUBLISH
X-WR-CALNAME:Hospice of Michigan
X-ORIGINAL-URL:https://www.hom.org
X-WR-CALDESC:Events for Hospice of Michigan
REFRESH-INTERVAL;VALUE=DURATION:PT1H
X-Robots-Tag:noindex
X-PUBLISHED-TTL:PT1H
BEGIN:VTIMEZONE
TZID:America/Detroit
BEGIN:DAYLIGHT
TZOFFSETFROM:-0500
TZOFFSETTO:-0400
TZNAME:EDT
DTSTART:20230312T070000
END:DAYLIGHT
BEGIN:STANDARD
TZOFFSETFROM:-0400
TZOFFSETTO:-0500
TZNAME:EST
DTSTART:20231105T060000
END:STANDARD
BEGIN:DAYLIGHT
TZOFFSETFROM:-0500
TZOFFSETTO:-0400
TZNAME:EDT
DTSTART:20240310T070000
END:DAYLIGHT
BEGIN:STANDARD
TZOFFSETFROM:-0400
TZOFFSETTO:-0500
TZNAME:EST
DTSTART:20241103T060000
END:STANDARD
BEGIN:DAYLIGHT
TZOFFSETFROM:-0500
TZOFFSETTO:-0400
TZNAME:EDT
DTSTART:20250309T070000
END:DAYLIGHT
BEGIN:STANDARD
TZOFFSETFROM:-0400
TZOFFSETTO:-0500
TZNAME:EST
DTSTART:20251102T060000
END:STANDARD
END:VTIMEZONE
BEGIN:VEVENT
DTSTART;TZID=America/Detroit:20240111T103000
DTEND;TZID=America/Detroit:20240111T113000
DTSTAMP:20260419T195648
CREATED:20230807T183849Z
LAST-MODIFIED:20240219T193228Z
UID:10001283-1704969000-1704972600@www.hom.org
SUMMARY:Living On - Adult Child (Virtual)
DESCRIPTION:An open\, ongoing group that meets monthly to discuss grief and loss as it pertains to the death of an adult child. Each group will consist of a time of education\, sharing and support. This group is facilitated by a Hospice of Michigan Grief Counselor and is largely peer-supported. \n  \nPlease RSVP with Will Gasper at 231.444.3350 or wgasper@hom.org
URL:https://www.hom.org/event/living-on-adult-child-virtual/2024-01-11/
LOCATION:Virtual Event
CATEGORIES:Grief Support
END:VEVENT
BEGIN:VEVENT
DTSTART;TZID=America/Detroit:20240111T140000
DTEND;TZID=America/Detroit:20240111T153000
DTSTAMP:20260419T195648
CREATED:20231128T170709Z
LAST-MODIFIED:20231128T170709Z
UID:10001457-1704981600-1704987000@www.hom.org
SUMMARY:Living On - Loss of Spouse/Partner (virtual)
DESCRIPTION:Come and share\, or simply listen\, as we discuss the various intricacies and many facets of grief after the loss of a spouse or partner. This group meets virtually\, every 2nd and 4th Thursday of the month. RSVP with Kjirsten Boeve at 231.929.1557 or kboeve@hom.org.
URL:https://www.hom.org/event/living-on-loss-of-spouse-partner-virtual/2024-01-11/
LOCATION:Virtual Event
CATEGORIES:Grief Support
ORGANIZER;CN="Kjirsten Boeve":MAILTO:kboeve@hom.org
END:VEVENT
BEGIN:VEVENT
DTSTART;TZID=America/Detroit:20240111T183000
DTEND;TZID=America/Detroit:20240111T200000
DTSTAMP:20260419T195648
CREATED:20231128T193556Z
LAST-MODIFIED:20231128T193556Z
UID:10001581-1704997800-1705003200@www.hom.org
SUMMARY:Grief 101 (Virtual)
DESCRIPTION:This educational meeting provides important resources and information for those coping with the loss of a loved one. Grief 101 explores what is normal during the grief process\, strategies for coping\, suggestions for self-care\, and available community support.  \nPlease RSVP with Cindy Palmer at 248.334.1323 or cpalmer@hom.org
URL:https://www.hom.org/event/grief-101-virtual/
LOCATION:Virtual Event
CATEGORIES:Grief Support
ORGANIZER;CN="Cynthia Palmer":MAILTO:cpalmer@hom.org
END:VEVENT
END:VCALENDAR