BEGIN:VCALENDAR
VERSION:2.0
PRODID:-//Hospice of Michigan - ECPv6.15.20//NONSGML v1.0//EN
CALSCALE:GREGORIAN
METHOD:PUBLISH
X-ORIGINAL-URL:https://www.hom.org
X-WR-CALDESC:Events for Hospice of Michigan
REFRESH-INTERVAL;VALUE=DURATION:PT1H
X-Robots-Tag:noindex
X-PUBLISHED-TTL:PT1H
BEGIN:VTIMEZONE
TZID:America/Detroit
BEGIN:DAYLIGHT
TZOFFSETFROM:-0500
TZOFFSETTO:-0400
TZNAME:EDT
DTSTART:20220313T070000
END:DAYLIGHT
BEGIN:STANDARD
TZOFFSETFROM:-0400
TZOFFSETTO:-0500
TZNAME:EST
DTSTART:20221106T060000
END:STANDARD
BEGIN:DAYLIGHT
TZOFFSETFROM:-0500
TZOFFSETTO:-0400
TZNAME:EDT
DTSTART:20230312T070000
END:DAYLIGHT
BEGIN:STANDARD
TZOFFSETFROM:-0400
TZOFFSETTO:-0500
TZNAME:EST
DTSTART:20231105T060000
END:STANDARD
BEGIN:DAYLIGHT
TZOFFSETFROM:-0500
TZOFFSETTO:-0400
TZNAME:EDT
DTSTART:20240310T070000
END:DAYLIGHT
BEGIN:STANDARD
TZOFFSETFROM:-0400
TZOFFSETTO:-0500
TZNAME:EST
DTSTART:20241103T060000
END:STANDARD
END:VTIMEZONE
BEGIN:VEVENT
DTSTART;TZID=America/Detroit:20231129T180000
DTEND;TZID=America/Detroit:20231129T193000
DTSTAMP:20260419T214411
CREATED:20230725T200452Z
LAST-MODIFIED:20230911T152106Z
UID:10001170-1701280800-1701286200@www.hom.org
SUMMARY:Hope for the Holidays - Special Seminar
DESCRIPTION:This is a supportive program providing information\, encouragement\, and hope as you journey through this holiday season. \nWednesday\, November 29\, 2023 from 6pm – 7:30 pmHospice of Michigan – Alpena Office199 Long Rapids RoadAlpena\, MI \nPlease RSVP with Stacy Malenfant at 989.358.4295 or smalenfa@hom.org
URL:https://www.hom.org/event/hope-for-the-holidays-special-seminar/
LOCATION:Hospice of Michigan – Alpena\, 199 Long Rapids Road\, Alpena\, MI\, 49707\, United States
CATEGORIES:Grief Support
ORGANIZER;CN="Stacey Malenfant":MAILTO:smalenfa@hom.org
END:VEVENT
END:VCALENDAR