BEGIN:VCALENDAR
VERSION:2.0
PRODID:-//Hospice of Michigan - ECPv6.15.20//NONSGML v1.0//EN
CALSCALE:GREGORIAN
METHOD:PUBLISH
X-WR-CALNAME:Hospice of Michigan
X-ORIGINAL-URL:https://www.hom.org
X-WR-CALDESC:Events for Hospice of Michigan
REFRESH-INTERVAL;VALUE=DURATION:PT1H
X-Robots-Tag:noindex
X-PUBLISHED-TTL:PT1H
BEGIN:VTIMEZONE
TZID:America/Detroit
BEGIN:DAYLIGHT
TZOFFSETFROM:-0500
TZOFFSETTO:-0400
TZNAME:EDT
DTSTART:20220313T070000
END:DAYLIGHT
BEGIN:STANDARD
TZOFFSETFROM:-0400
TZOFFSETTO:-0500
TZNAME:EST
DTSTART:20221106T060000
END:STANDARD
BEGIN:DAYLIGHT
TZOFFSETFROM:-0500
TZOFFSETTO:-0400
TZNAME:EDT
DTSTART:20230312T070000
END:DAYLIGHT
BEGIN:STANDARD
TZOFFSETFROM:-0400
TZOFFSETTO:-0500
TZNAME:EST
DTSTART:20231105T060000
END:STANDARD
BEGIN:DAYLIGHT
TZOFFSETFROM:-0500
TZOFFSETTO:-0400
TZNAME:EDT
DTSTART:20240310T070000
END:DAYLIGHT
BEGIN:STANDARD
TZOFFSETFROM:-0400
TZOFFSETTO:-0500
TZNAME:EST
DTSTART:20241103T060000
END:STANDARD
END:VTIMEZONE
BEGIN:VEVENT
DTSTART;TZID=America/Detroit:20231011T113000
DTEND;TZID=America/Detroit:20231011T130000
DTSTAMP:20260420T004705
CREATED:20230802T191138Z
LAST-MODIFIED:20230911T151032Z
UID:10001189-1697023800-1697029200@www.hom.org
SUMMARY:The Lunch Bunch - Grief Support Social Group
DESCRIPTION:The Lunch Bunch is a meal-centered group for individuals who have lost a spouse or partner and are interested in making new friends and sharing a meal together. \nPlease contact us for details regarding location. \nThis group meets the 2nd Wednesday of the month\, from 11:30am – 1pm at various restaurants in Oakland county \nPlease RSVP with Cindy Palmer • 248-334-1323 • cpalmer@hom.org
URL:https://www.hom.org/event/the-lunch-bunch-grief-support-social-group/2023-10-11/
LOCATION:MI
CATEGORIES:Grief Support
ORGANIZER;CN="Cynthia Palmer":MAILTO:cpalmer@hom.org
END:VEVENT
BEGIN:VEVENT
DTSTART;TZID=America/Detroit:20231011T130000
DTEND;TZID=America/Detroit:20231011T143000
DTSTAMP:20260420T004705
CREATED:20230724T184003Z
LAST-MODIFIED:20230911T150956Z
UID:10001129-1697029200-1697034600@www.hom.org
SUMMARY:Living On - Grief Support Group
DESCRIPTION:The focus of this Living On support group is to express feelings and experiences related to the loss of a loved one in a supportive\, caring\, and non-judgmental environment. Grief and loss topics are addressed as they arise\, depending on the interests of those attending the group. \n2nd Wednesday of the month • 1pm – 2:30pm–virtual and in-person\nHospice of Michigan office • 932 N Mitchell St.\, Cadillac\nRSVP with Will Gasper • 231-444-3350 • wgasper@hom.org
URL:https://www.hom.org/event/living-on-grief-support-group/2023-10-11/
LOCATION:Hospice of Michigan-Cadillac\, 932 N. Mitchell Street\, Cadillac\, MI
CATEGORIES:Grief Support
END:VEVENT
BEGIN:VEVENT
DTSTART;TZID=America/Detroit:20231011T180000
DTEND;TZID=America/Detroit:20231011T193000
DTSTAMP:20260420T004705
CREATED:20230725T195530Z
LAST-MODIFIED:20230911T150452Z
UID:10001168-1697047200-1697052600@www.hom.org
SUMMARY:Grief 101 - Seminar
DESCRIPTION:This educational meeting provides important resources and information for those coping with the loss of a loved one. Grief 101 explores what is normal during the grief process\, strategies for coping\, suggestions for self-care\, and available community support. \nWednesday\, October 11\, 2023 from 6pm – 7:30 pm\nHospice of Michigan Office – Alpena\n199 Long Rapids Road\nAlpena\, MI  \nPlease RSVP with Stacy Malenfant at 989.358.4295 or smalenfa@hom.org
URL:https://www.hom.org/event/grief-101-semindar/
LOCATION:Hospice of Michigan – Alpena\, 199 Long Rapids Road\, Alpena\, MI\, 49707\, United States
CATEGORIES:Grief Support
ORGANIZER;CN="Stacey Malenfant":MAILTO:smalenfa@hom.org
END:VEVENT
BEGIN:VEVENT
DTSTART;TZID=America/Detroit:20231011T183000
DTEND;TZID=America/Detroit:20231011T193000
DTSTAMP:20260420T004705
CREATED:20230807T185722Z
LAST-MODIFIED:20231002T203719Z
UID:10001347-1697049000-1697052600@www.hom.org
SUMMARY:Living On - Loss of a Parent (Virtual)
DESCRIPTION:An open\, ongoing support group that meets monthly to discuss grief and loss as it pertains to the death of a parent.  \nPlease RSVP with David Keller at 231.527.0913 or dkeller@hom.org
URL:https://www.hom.org/event/living-on-loss-of-a-parent-virtual/2023-10-11/
LOCATION:Virtual Event
CATEGORIES:Grief Support
ORGANIZER;CN="David Keller":MAILTO:dkeller@hom.org
END:VEVENT
END:VCALENDAR