BEGIN:VCALENDAR
VERSION:2.0
PRODID:-//Hospice of Michigan - ECPv6.15.20//NONSGML v1.0//EN
CALSCALE:GREGORIAN
METHOD:PUBLISH
X-WR-CALNAME:Hospice of Michigan
X-ORIGINAL-URL:https://www.hom.org
X-WR-CALDESC:Events for Hospice of Michigan
REFRESH-INTERVAL;VALUE=DURATION:PT1H
X-Robots-Tag:noindex
X-PUBLISHED-TTL:PT1H
BEGIN:VTIMEZONE
TZID:America/Detroit
BEGIN:DAYLIGHT
TZOFFSETFROM:-0500
TZOFFSETTO:-0400
TZNAME:EDT
DTSTART:20280312T070000
END:DAYLIGHT
BEGIN:STANDARD
TZOFFSETFROM:-0400
TZOFFSETTO:-0500
TZNAME:EST
DTSTART:20281105T060000
END:STANDARD
BEGIN:DAYLIGHT
TZOFFSETFROM:-0500
TZOFFSETTO:-0400
TZNAME:EDT
DTSTART:20290311T070000
END:DAYLIGHT
BEGIN:STANDARD
TZOFFSETFROM:-0400
TZOFFSETTO:-0500
TZNAME:EST
DTSTART:20291104T060000
END:STANDARD
BEGIN:DAYLIGHT
TZOFFSETFROM:-0500
TZOFFSETTO:-0400
TZNAME:EDT
DTSTART:20300310T070000
END:DAYLIGHT
BEGIN:STANDARD
TZOFFSETFROM:-0400
TZOFFSETTO:-0500
TZNAME:EST
DTSTART:20301103T060000
END:STANDARD
END:VTIMEZONE
BEGIN:VEVENT
DTSTART;TZID=America/Detroit:20290501T103000
DTEND;TZID=America/Detroit:20290501T113000
DTSTAMP:20260421T025547
CREATED:20241218T213408Z
LAST-MODIFIED:20241218T213408Z
UID:10003659-1872325800-1872329400@www.hom.org
SUMMARY:LIVING ON - GENERAL LOSS GROUPS
DESCRIPTION:The focus of Living On support groups is to express feelings and experiences related to the loss of\na loved one in a supportive\, caring\, and non-judgmental environment. Grief and loss topics are\naddressed as they arise\, depending on the interests of those attending the group. \n4th Tuesday of the month • 10:30am – 11:30am\nRSVP with Meredith Hartmann • 734-709-3088\nmhartmann@arborhospice.org
URL:https://www.hom.org/event/living-on-general-loss-groups/2029-05-01/
LOCATION:Virtual Event
CATEGORIES:Grief Support
ORGANIZER;CN="Meredith Hartmann":MAILTO:mhartmann@arborhospice.org
END:VEVENT
BEGIN:VEVENT
DTSTART;TZID=America/Detroit:20290501T173000
DTEND;TZID=America/Detroit:20290501T184500
DTSTAMP:20260421T025547
CREATED:20240820T195615Z
LAST-MODIFIED:20240820T195615Z
UID:10003222-1872351000-1872355500@www.hom.org
SUMMARY:Living On - Sudden/Traumatic Loss (Virtual)
DESCRIPTION:An open\, ongoing group that meets monthly to discuss grief and loss as it pertains to the sudden and traumatic loss of a loved one.\n1st Tuesday of the month • 5:30pm – 6:45pm\nRSVP: Kjirsten Boeve • 231-929-1557 • kboeve@hom.org
URL:https://www.hom.org/event/living-on-sudden-traumatic-loss-virtual/2029-05-01/
LOCATION:Virtual Event
CATEGORIES:Grief Support
ORGANIZER;CN="Kjirsten Boeve":MAILTO:kboeve@hom.org
END:VEVENT
END:VCALENDAR