BEGIN:VCALENDAR
VERSION:2.0
PRODID:-//Hospice of Michigan - ECPv6.15.20//NONSGML v1.0//EN
CALSCALE:GREGORIAN
METHOD:PUBLISH
X-ORIGINAL-URL:https://www.hom.org
X-WR-CALDESC:Events for Hospice of Michigan
REFRESH-INTERVAL;VALUE=DURATION:PT1H
X-Robots-Tag:noindex
X-PUBLISHED-TTL:PT1H
BEGIN:VTIMEZONE
TZID:America/Detroit
BEGIN:DAYLIGHT
TZOFFSETFROM:-0500
TZOFFSETTO:-0400
TZNAME:EDT
DTSTART:20280312T070000
END:DAYLIGHT
BEGIN:STANDARD
TZOFFSETFROM:-0400
TZOFFSETTO:-0500
TZNAME:EST
DTSTART:20281105T060000
END:STANDARD
BEGIN:DAYLIGHT
TZOFFSETFROM:-0500
TZOFFSETTO:-0400
TZNAME:EDT
DTSTART:20290311T070000
END:DAYLIGHT
BEGIN:STANDARD
TZOFFSETFROM:-0400
TZOFFSETTO:-0500
TZNAME:EST
DTSTART:20291104T060000
END:STANDARD
BEGIN:DAYLIGHT
TZOFFSETFROM:-0500
TZOFFSETTO:-0400
TZNAME:EDT
DTSTART:20300310T070000
END:DAYLIGHT
BEGIN:STANDARD
TZOFFSETFROM:-0400
TZOFFSETTO:-0500
TZNAME:EST
DTSTART:20301103T060000
END:STANDARD
END:VTIMEZONE
BEGIN:VEVENT
DTSTART;TZID=America/Detroit:20290312T110000
DTEND;TZID=America/Detroit:20290312T120000
DTSTAMP:20260421T011319
CREATED:20250106T193635Z
LAST-MODIFIED:20250106T193635Z
UID:10005734-1868007600-1868011200@www.hom.org
SUMMARY:Living On - General Loss Group
DESCRIPTION:The focus of Living On support groups is to express feelings and experiences related to the loss of\na loved one in a supportive\, caring\, and non-judgmental environment. Grief and loss topics are\naddressed as they arise\, depending on the interests of those attending the group. \n2nd Monday of the month • 11am – 12pm\nHospice of Michigan office • 830 S. Otsego Ave.\, Gaylord\nRSVP with Tavia Mulholland • 9897-705-2603 • taviamulholland@hom.org
URL:https://www.hom.org/event/living-on-general-loss-group-5/2029-03-12/
LOCATION:Hospice of Michigan-Gaylord\, 830 S. Otsego Avenue\, Gaylord\, MI\, 49735
CATEGORIES:Grief Support
ORGANIZER;CN="Tavia Mulholland":MAILTO:tmulholland@hom.org
END:VEVENT
BEGIN:VEVENT
DTSTART;TZID=America/Detroit:20290312T180000
DTEND;TZID=America/Detroit:20290312T191500
DTSTAMP:20260421T011319
CREATED:20231128T192630Z
LAST-MODIFIED:20240820T184643Z
UID:10002809-1868032800-1868037300@www.hom.org
SUMMARY:Living On (Virtual)
DESCRIPTION:The focus of this Living On support group is to express feelings and experiences related to the loss of a loved one in a supportive\, caring\, and non-judgmental environment. Grief and loss topics are addressed as they arise\, depending n the interests of those attending the group. RSVP to Margie Martin at 734.769.5821 or mmartin@arborhospice.org
URL:https://www.hom.org/event/living-on-virtual-4/2029-03-12/
LOCATION:Virtual Event
CATEGORIES:Grief Support
ORGANIZER;CN="Margie Martin":MAILTO:mmartin@arborhospice.org
END:VEVENT
END:VCALENDAR