BEGIN:VCALENDAR
VERSION:2.0
PRODID:-//Hospice of Michigan - ECPv6.15.20//NONSGML v1.0//EN
CALSCALE:GREGORIAN
METHOD:PUBLISH
X-ORIGINAL-URL:https://www.hom.org
X-WR-CALDESC:Events for Hospice of Michigan
REFRESH-INTERVAL;VALUE=DURATION:PT1H
X-Robots-Tag:noindex
X-PUBLISHED-TTL:PT1H
BEGIN:VTIMEZONE
TZID:America/Detroit
BEGIN:DAYLIGHT
TZOFFSETFROM:-0500
TZOFFSETTO:-0400
TZNAME:EDT
DTSTART:20280312T070000
END:DAYLIGHT
BEGIN:STANDARD
TZOFFSETFROM:-0400
TZOFFSETTO:-0500
TZNAME:EST
DTSTART:20281105T060000
END:STANDARD
BEGIN:DAYLIGHT
TZOFFSETFROM:-0500
TZOFFSETTO:-0400
TZNAME:EDT
DTSTART:20290311T070000
END:DAYLIGHT
BEGIN:STANDARD
TZOFFSETFROM:-0400
TZOFFSETTO:-0500
TZNAME:EST
DTSTART:20291104T060000
END:STANDARD
BEGIN:DAYLIGHT
TZOFFSETFROM:-0500
TZOFFSETTO:-0400
TZNAME:EDT
DTSTART:20300310T070000
END:DAYLIGHT
BEGIN:STANDARD
TZOFFSETFROM:-0400
TZOFFSETTO:-0500
TZNAME:EST
DTSTART:20301103T060000
END:STANDARD
END:VTIMEZONE
BEGIN:VEVENT
DTSTART;TZID=America/Detroit:20290226T110000
DTEND;TZID=America/Detroit:20290226T123000
DTSTAMP:20260420T235313
CREATED:20250106T194236Z
LAST-MODIFIED:20250106T194236Z
UID:10005793-1866798000-1866803400@www.hom.org
SUMMARY:Walking Through Grief
DESCRIPTION:Social support and physical activity are two of the most important\ncomponents of mental health\, especially while grieving. This monthly\,\nsocially-focused group gives grieving adults the opportunity to\nsocialize\, support one another in grief\, while getting fresh air and\nexercise. All activity levels are welcome. Individuals can walk at their\nown pace.\n4th Monday of the month • 11am – 12:30pm\nOtsego county Sportsplex • 1250 Gornick Ave. Gaylord\nRSVP with Tavia Mulholland\n9897-705-2603 • taviamulholland@hom.org
URL:https://www.hom.org/event/walking-through-grief/2029-02-26/
LOCATION:Otsego County Sportsplex\, 1250 Gornick Avenue\, Gaylord\, United States
CATEGORIES:Grief Support
ORGANIZER;CN="Tavia Mulholland":MAILTO:tmulholland@hom.org
END:VEVENT
END:VCALENDAR