BEGIN:VCALENDAR
VERSION:2.0
PRODID:-//Hospice of Michigan - ECPv6.15.20//NONSGML v1.0//EN
CALSCALE:GREGORIAN
METHOD:PUBLISH
X-WR-CALNAME:Hospice of Michigan
X-ORIGINAL-URL:https://www.hom.org
X-WR-CALDESC:Events for Hospice of Michigan
REFRESH-INTERVAL;VALUE=DURATION:PT1H
X-Robots-Tag:noindex
X-PUBLISHED-TTL:PT1H
BEGIN:VTIMEZONE
TZID:America/Detroit
BEGIN:DAYLIGHT
TZOFFSETFROM:-0500
TZOFFSETTO:-0400
TZNAME:EDT
DTSTART:20280312T070000
END:DAYLIGHT
BEGIN:STANDARD
TZOFFSETFROM:-0400
TZOFFSETTO:-0500
TZNAME:EST
DTSTART:20281105T060000
END:STANDARD
BEGIN:DAYLIGHT
TZOFFSETFROM:-0500
TZOFFSETTO:-0400
TZNAME:EDT
DTSTART:20290311T070000
END:DAYLIGHT
BEGIN:STANDARD
TZOFFSETFROM:-0400
TZOFFSETTO:-0500
TZNAME:EST
DTSTART:20291104T060000
END:STANDARD
BEGIN:DAYLIGHT
TZOFFSETFROM:-0500
TZOFFSETTO:-0400
TZNAME:EDT
DTSTART:20300310T070000
END:DAYLIGHT
BEGIN:STANDARD
TZOFFSETFROM:-0400
TZOFFSETTO:-0500
TZNAME:EST
DTSTART:20301103T060000
END:STANDARD
END:VTIMEZONE
BEGIN:VEVENT
DTSTART;TZID=America/Detroit:20290110T113000
DTEND;TZID=America/Detroit:20290110T123000
DTSTAMP:20260420T220608
CREATED:20240409T214323Z
LAST-MODIFIED:20240409T214539Z
UID:10002660-1862739000-1862742600@www.hom.org
SUMMARY:The Lunch Bunch
DESCRIPTION:Hospice of Michigan offers this social group for individuals who have lost a spouse or partner and are interested in making new friends and sharing a meal together.\nThis group meets the 2nd Wednesday of the month 11:30am – 12:30pm at various restaurants in Madison Heights\nPlease RSVP with Cindy Palmer 248-334-1323 • cpalmer@hom.org\nContact Cindy for details regarding location.
URL:https://www.hom.org/event/the-lunch-bunch-2/2029-01-10/
LOCATION:MI
CATEGORIES:Grief Support
ORGANIZER;CN="Cynthia Palmer":MAILTO:cpalmer@hom.org
END:VEVENT
BEGIN:VEVENT
DTSTART;TZID=America/Detroit:20290110T130000
DTEND;TZID=America/Detroit:20290110T143000
DTSTAMP:20260420T220608
CREATED:20240820T192756Z
LAST-MODIFIED:20240820T192756Z
UID:10003064-1862744400-1862749800@www.hom.org
SUMMARY:Living On (In person & Virtual)
DESCRIPTION:The focus of Living On support groups is to express feelings and experiences related to the loss of a loved one in a supportive\, caring\, and non-judgmental environment. Grief and loss topics are addressed as they arise\, depending on the interests of those attending the group.  \n2nd Wednesday of the month • 1pm – 2:30pm\nHospice of Michigan office • 932 N. Mitchell\, Cadillac\nRSVP: Will Gasper • 231-444-3350 • wgasper@hom.org
URL:https://www.hom.org/event/living-on-in-person-virtual/2029-01-10/
LOCATION:Hospice of Michigan-Cadillac\, 932 N. Mitchell Street\, Cadillac\, MI
CATEGORIES:Grief Support
ORGANIZER;CN="Will Gasper":MAILTO:wgasper@hom.org
END:VEVENT
END:VCALENDAR