BEGIN:VCALENDAR
VERSION:2.0
PRODID:-//Hospice of Michigan - ECPv6.15.20//NONSGML v1.0//EN
CALSCALE:GREGORIAN
METHOD:PUBLISH
X-ORIGINAL-URL:https://www.hom.org
X-WR-CALDESC:Events for Hospice of Michigan
REFRESH-INTERVAL;VALUE=DURATION:PT1H
X-Robots-Tag:noindex
X-PUBLISHED-TTL:PT1H
BEGIN:VTIMEZONE
TZID:America/Detroit
BEGIN:DAYLIGHT
TZOFFSETFROM:-0500
TZOFFSETTO:-0400
TZNAME:EDT
DTSTART:20240310T070000
END:DAYLIGHT
BEGIN:STANDARD
TZOFFSETFROM:-0400
TZOFFSETTO:-0500
TZNAME:EST
DTSTART:20241103T060000
END:STANDARD
BEGIN:DAYLIGHT
TZOFFSETFROM:-0500
TZOFFSETTO:-0400
TZNAME:EDT
DTSTART:20250309T070000
END:DAYLIGHT
BEGIN:STANDARD
TZOFFSETFROM:-0400
TZOFFSETTO:-0500
TZNAME:EST
DTSTART:20251102T060000
END:STANDARD
BEGIN:DAYLIGHT
TZOFFSETFROM:-0500
TZOFFSETTO:-0400
TZNAME:EDT
DTSTART:20260308T070000
END:DAYLIGHT
BEGIN:STANDARD
TZOFFSETFROM:-0400
TZOFFSETTO:-0500
TZNAME:EST
DTSTART:20261101T060000
END:STANDARD
END:VTIMEZONE
BEGIN:VEVENT
DTSTART;TZID=America/Detroit:20250409T110000
DTEND;TZID=America/Detroit:20250409T123000
DTSTAMP:20260419T102938
CREATED:20231128T200944Z
LAST-MODIFIED:20231128T200944Z
UID:10001602-1744196400-1744201800@www.hom.org
SUMMARY:The Lunch Bunch
DESCRIPTION:The Lunch Bunch is a meal-centered group for individuals who have lost a spouse or partner and are interested in making new friends and sharing a meal together. Please contact us for details regarding location. \nHarringtons By the Bay\n13890 S. W. Bay Shore Drive\nTraverse City \nPlease RSVP with Kjirsten Boeve at 231.929.1557 or kboeve@hom.org
URL:https://www.hom.org/event/the-lunch-bunch/2025-04-09/
LOCATION:Harringtons By The Bay\, 13890 S. W. Bay Shore Drive\, Traverse City\, United States
CATEGORIES:Grief Support
ORGANIZER;CN="Kjirsten Boeve":MAILTO:kboeve@hom.org
END:VEVENT
BEGIN:VEVENT
DTSTART;TZID=America/Detroit:20250409T113000
DTEND;TZID=America/Detroit:20250409T123000
DTSTAMP:20260419T102938
CREATED:20240409T214323Z
LAST-MODIFIED:20240409T214539Z
UID:10002615-1744198200-1744201800@www.hom.org
SUMMARY:The Lunch Bunch
DESCRIPTION:Hospice of Michigan offers this social group for individuals who have lost a spouse or partner and are interested in making new friends and sharing a meal together.\nThis group meets the 2nd Wednesday of the month 11:30am – 12:30pm at various restaurants in Madison Heights\nPlease RSVP with Cindy Palmer 248-334-1323 • cpalmer@hom.org\nContact Cindy for details regarding location.
URL:https://www.hom.org/event/the-lunch-bunch-2/2025-04-09/
LOCATION:MI
CATEGORIES:Grief Support
ORGANIZER;CN="Cynthia Palmer":MAILTO:cpalmer@hom.org
END:VEVENT
BEGIN:VEVENT
DTSTART;TZID=America/Detroit:20250409T130000
DTEND;TZID=America/Detroit:20250409T143000
DTSTAMP:20260419T102938
CREATED:20240820T192756Z
LAST-MODIFIED:20240820T192756Z
UID:10003019-1744203600-1744209000@www.hom.org
SUMMARY:Living On (In person & Virtual)
DESCRIPTION:The focus of Living On support groups is to express feelings and experiences related to the loss of a loved one in a supportive\, caring\, and non-judgmental environment. Grief and loss topics are addressed as they arise\, depending on the interests of those attending the group.  \n2nd Wednesday of the month • 1pm – 2:30pm\nHospice of Michigan office • 932 N. Mitchell\, Cadillac\nRSVP: Will Gasper • 231-444-3350 • wgasper@hom.org
URL:https://www.hom.org/event/living-on-in-person-virtual/2025-04-09/
LOCATION:Hospice of Michigan-Cadillac\, 932 N. Mitchell Street\, Cadillac\, MI
CATEGORIES:Grief Support
ORGANIZER;CN="Will Gasper":MAILTO:wgasper@hom.org
END:VEVENT
BEGIN:VEVENT
DTSTART;TZID=America/Detroit:20250409T133000
DTEND;TZID=America/Detroit:20250409T150000
DTSTAMP:20260419T102938
CREATED:20241218T213833Z
LAST-MODIFIED:20241219T202908Z
UID:10003699-1744205400-1744210800@www.hom.org
SUMMARY:LIVING ON - GENERAL LOSS GROUP
DESCRIPTION:The focus of Living On support groups is to express feelings and experiences related to the loss of\na loved one in a supportive\, caring\, and non-judgmental environment. Grief and loss topics are\naddressed as they arise\, depending on the interests of those attending the group. \n2nd & 4th Wednesday of the month • 1:30pm – 3pm\nCostick Activities Center • 128600 W Eleven Mile Rd.\, Farmington Hills\nRSVP with Cindy Palmer • 248-334-1323 • cpalmer@hom.org
URL:https://www.hom.org/event/living-on-general-loss-group/2025-04-09/
LOCATION:Costick Activities Center\, 28600 W Eleven Mile Road\, Farmington Hills\, MI\, 48336\, United States
CATEGORIES:Grief Support
ORGANIZER;CN="Cynthia Palmer":MAILTO:cpalmer@hom.org
END:VEVENT
BEGIN:VEVENT
DTSTART;TZID=America/Detroit:20250409T180000
DTEND;TZID=America/Detroit:20250409T193000
DTSTAMP:20260419T102938
CREATED:20241218T204731Z
LAST-MODIFIED:20250106T180816Z
UID:10003314-1744221600-1744227000@www.hom.org
SUMMARY:Journey Through Grief (Virtual)
DESCRIPTION:This weekly support group explores the Six Needs of Mourning by Dr. Alan Wolfelt. •\nAcknowledge the reality of death • Embrace the pain of loss • Remember the person \nAcknowledge the reality of death • Embrace the pain of loss • Remember the person\nwho died • Develop a new identity • Search for meaning • Receive ongoing support\nfrom others. No new members will be admitted to this group after the 2nd week.\nRegistration is required.\nEvery Wednesday; March 26 – April 30\, 2025 • 6pm – 7:30pm\nRSVP with Jackie Morris • 313-578-6328 • jmorris@hom.org
URL:https://www.hom.org/event/journey-through-grief-in-person-2/2025-04-09/
LOCATION:Virtual Event
CATEGORIES:Grief Support
ORGANIZER;CN="Jackie Morris":MAILTO:jmorris@hom.org
END:VEVENT
END:VCALENDAR