BEGIN:VCALENDAR
VERSION:2.0
PRODID:-//Hospice of Michigan - ECPv6.15.20//NONSGML v1.0//EN
CALSCALE:GREGORIAN
METHOD:PUBLISH
X-WR-CALNAME:Hospice of Michigan
X-ORIGINAL-URL:https://www.hom.org
X-WR-CALDESC:Events for Hospice of Michigan
REFRESH-INTERVAL;VALUE=DURATION:PT1H
X-Robots-Tag:noindex
X-PUBLISHED-TTL:PT1H
BEGIN:VTIMEZONE
TZID:America/Detroit
BEGIN:DAYLIGHT
TZOFFSETFROM:-0500
TZOFFSETTO:-0400
TZNAME:EDT
DTSTART:20240310T070000
END:DAYLIGHT
BEGIN:STANDARD
TZOFFSETFROM:-0400
TZOFFSETTO:-0500
TZNAME:EST
DTSTART:20241103T060000
END:STANDARD
BEGIN:DAYLIGHT
TZOFFSETFROM:-0500
TZOFFSETTO:-0400
TZNAME:EDT
DTSTART:20250309T070000
END:DAYLIGHT
BEGIN:STANDARD
TZOFFSETFROM:-0400
TZOFFSETTO:-0500
TZNAME:EST
DTSTART:20251102T060000
END:STANDARD
BEGIN:DAYLIGHT
TZOFFSETFROM:-0500
TZOFFSETTO:-0400
TZNAME:EDT
DTSTART:20260308T070000
END:DAYLIGHT
BEGIN:STANDARD
TZOFFSETFROM:-0400
TZOFFSETTO:-0500
TZNAME:EST
DTSTART:20261101T060000
END:STANDARD
END:VTIMEZONE
BEGIN:VEVENT
DTSTART;TZID=America/Detroit:20250326T133000
DTEND;TZID=America/Detroit:20250326T150000
DTSTAMP:20260419T094659
CREATED:20241218T213833Z
LAST-MODIFIED:20241219T202908Z
UID:10003698-1742995800-1743001200@www.hom.org
SUMMARY:LIVING ON - GENERAL LOSS GROUP
DESCRIPTION:The focus of Living On support groups is to express feelings and experiences related to the loss of\na loved one in a supportive\, caring\, and non-judgmental environment. Grief and loss topics are\naddressed as they arise\, depending on the interests of those attending the group. \n2nd & 4th Wednesday of the month • 1:30pm – 3pm\nCostick Activities Center • 128600 W Eleven Mile Rd.\, Farmington Hills\nRSVP with Cindy Palmer • 248-334-1323 • cpalmer@hom.org
URL:https://www.hom.org/event/living-on-general-loss-group/2025-03-26/
LOCATION:Costick Activities Center\, 28600 W Eleven Mile Road\, Farmington Hills\, MI\, 48336\, United States
CATEGORIES:Grief Support
ORGANIZER;CN="Cynthia Palmer":MAILTO:cpalmer@hom.org
END:VEVENT
BEGIN:VEVENT
DTSTART;TZID=America/Detroit:20250326T180000
DTEND;TZID=America/Detroit:20250326T193000
DTSTAMP:20260419T094659
CREATED:20241218T204731Z
LAST-MODIFIED:20250106T180816Z
UID:10003239-1743012000-1743017400@www.hom.org
SUMMARY:Journey Through Grief (Virtual)
DESCRIPTION:This weekly support group explores the Six Needs of Mourning by Dr. Alan Wolfelt. •\nAcknowledge the reality of death • Embrace the pain of loss • Remember the person \nAcknowledge the reality of death • Embrace the pain of loss • Remember the person\nwho died • Develop a new identity • Search for meaning • Receive ongoing support\nfrom others. No new members will be admitted to this group after the 2nd week.\nRegistration is required.\nEvery Wednesday; March 26 – April 30\, 2025 • 6pm – 7:30pm\nRSVP with Jackie Morris • 313-578-6328 • jmorris@hom.org
URL:https://www.hom.org/event/journey-through-grief-in-person-2/2025-03-26/
LOCATION:Virtual Event
CATEGORIES:Grief Support
ORGANIZER;CN="Jackie Morris":MAILTO:jmorris@hom.org
END:VEVENT
END:VCALENDAR