BEGIN:VCALENDAR
VERSION:2.0
PRODID:-//Hospice of Michigan - ECPv6.15.20//NONSGML v1.0//EN
CALSCALE:GREGORIAN
METHOD:PUBLISH
X-ORIGINAL-URL:https://www.hom.org
X-WR-CALDESC:Events for Hospice of Michigan
REFRESH-INTERVAL;VALUE=DURATION:PT1H
X-Robots-Tag:noindex
X-PUBLISHED-TTL:PT1H
BEGIN:VTIMEZONE
TZID:America/Detroit
BEGIN:DAYLIGHT
TZOFFSETFROM:-0500
TZOFFSETTO:-0400
TZNAME:EDT
DTSTART:20240310T070000
END:DAYLIGHT
BEGIN:STANDARD
TZOFFSETFROM:-0400
TZOFFSETTO:-0500
TZNAME:EST
DTSTART:20241103T060000
END:STANDARD
BEGIN:DAYLIGHT
TZOFFSETFROM:-0500
TZOFFSETTO:-0400
TZNAME:EDT
DTSTART:20250309T070000
END:DAYLIGHT
BEGIN:STANDARD
TZOFFSETFROM:-0400
TZOFFSETTO:-0500
TZNAME:EST
DTSTART:20251102T060000
END:STANDARD
BEGIN:DAYLIGHT
TZOFFSETFROM:-0500
TZOFFSETTO:-0400
TZNAME:EDT
DTSTART:20260308T070000
END:DAYLIGHT
BEGIN:STANDARD
TZOFFSETFROM:-0400
TZOFFSETTO:-0500
TZNAME:EST
DTSTART:20261101T060000
END:STANDARD
END:VTIMEZONE
BEGIN:VEVENT
DTSTART;TZID=America/Detroit:20250214T113000
DTEND;TZID=America/Detroit:20250214T130000
DTSTAMP:20260420T021502
CREATED:20241218T212050Z
LAST-MODIFIED:20241218T212050Z
UID:10003433-1739532600-1739538000@www.hom.org
SUMMARY:Healing Hearts Luncheon
DESCRIPTION:Offering support to those grieving the death of a spouse or partner\, we will exchange\nideas on how to approach the Valentine’s Day Holiday. We will discuss suggestions on\ncoping with the grief of losing your love and life partner. A lunch will be provided. \nFriday\, February 14\, 2025 • 11:30am – 1pm\nWoodhaven Community Center • 23101 Hall Rd\, Woodhaven\nRSVP with Jackie Morris • 313-578-6328 • jmorris@hom.org
URL:https://www.hom.org/event/healing-hearts-luncheon-2/
LOCATION:Woodhaven Community Center\, 23101 Hall Road\, Woodhaven\, MI
CATEGORIES:Fundraising Events
ORGANIZER;CN="Jackie Morris":MAILTO:jmorris@hom.org
END:VEVENT
BEGIN:VEVENT
DTSTART;TZID=America/Detroit:20250214T113000
DTEND;TZID=America/Detroit:20250214T130000
DTSTAMP:20260420T021503
CREATED:20241219T204202Z
LAST-MODIFIED:20241219T204202Z
UID:10005516-1739532600-1739538000@www.hom.org
SUMMARY:LIVING ON - GENERAL LOSS GROUP
DESCRIPTION:The focus of Living On support groups is to express feelings and experiences related to the loss of\na loved one in a supportive\, caring\, and non-judgmental environment. Grief and loss topics are\naddressed as they arise\, depending on the interests of those attending the group. \n2nd & 4th Friday of the month • 11:30am – 1pm\nWoodhaven Community Center • 23101 Hall Rd.\, Woodhaven\nRSVP with Jackie Morris • 313-578-6328 • jmorris@hom.org \n 
URL:https://www.hom.org/event/living-on-general-loss-group-4/2025-02-14/
LOCATION:Woodhaven Community Center\, 23101 Hall Road\, Woodhaven\, MI
CATEGORIES:Grief Support
ORGANIZER;CN="Jackie Morris":MAILTO:jmorris@hom.org
END:VEVENT
END:VCALENDAR