BEGIN:VCALENDAR
VERSION:2.0
PRODID:-//Hospice of Michigan - ECPv6.15.20//NONSGML v1.0//EN
CALSCALE:GREGORIAN
METHOD:PUBLISH
X-WR-CALNAME:Hospice of Michigan
X-ORIGINAL-URL:https://www.hom.org
X-WR-CALDESC:Events for Hospice of Michigan
REFRESH-INTERVAL;VALUE=DURATION:PT1H
X-Robots-Tag:noindex
X-PUBLISHED-TTL:PT1H
BEGIN:VTIMEZONE
TZID:America/Detroit
BEGIN:DAYLIGHT
TZOFFSETFROM:-0500
TZOFFSETTO:-0400
TZNAME:EDT
DTSTART:20240310T070000
END:DAYLIGHT
BEGIN:STANDARD
TZOFFSETFROM:-0400
TZOFFSETTO:-0500
TZNAME:EST
DTSTART:20241103T060000
END:STANDARD
BEGIN:DAYLIGHT
TZOFFSETFROM:-0500
TZOFFSETTO:-0400
TZNAME:EDT
DTSTART:20250309T070000
END:DAYLIGHT
BEGIN:STANDARD
TZOFFSETFROM:-0400
TZOFFSETTO:-0500
TZNAME:EST
DTSTART:20251102T060000
END:STANDARD
BEGIN:DAYLIGHT
TZOFFSETFROM:-0500
TZOFFSETTO:-0400
TZNAME:EDT
DTSTART:20260308T070000
END:DAYLIGHT
BEGIN:STANDARD
TZOFFSETFROM:-0400
TZOFFSETTO:-0500
TZNAME:EST
DTSTART:20261101T060000
END:STANDARD
END:VTIMEZONE
BEGIN:VEVENT
DTSTART;TZID=America/Detroit:20250210T110000
DTEND;TZID=America/Detroit:20250210T120000
DTSTAMP:20260421T073228
CREATED:20250106T193635Z
LAST-MODIFIED:20250106T193635Z
UID:10005685-1739185200-1739188800@www.hom.org
SUMMARY:Living On - General Loss Group
DESCRIPTION:The focus of Living On support groups is to express feelings and experiences related to the loss of\na loved one in a supportive\, caring\, and non-judgmental environment. Grief and loss topics are\naddressed as they arise\, depending on the interests of those attending the group. \n2nd Monday of the month • 11am – 12pm\nHospice of Michigan office • 830 S. Otsego Ave.\, Gaylord\nRSVP with Tavia Mulholland • 9897-705-2603 • taviamulholland@hom.org
URL:https://www.hom.org/event/living-on-general-loss-group-5/2025-02-10/
LOCATION:Hospice of Michigan-Gaylord\, 830 S. Otsego Avenue\, Gaylord\, MI\, 49735
CATEGORIES:Grief Support
ORGANIZER;CN="Tavia Mulholland":MAILTO:tmulholland@hom.org
END:VEVENT
BEGIN:VEVENT
DTSTART;TZID=America/Detroit:20250210T113000
DTEND;TZID=America/Detroit:20250210T130000
DTSTAMP:20260421T073228
CREATED:20241218T211927Z
LAST-MODIFIED:20241218T211927Z
UID:10003432-1739187000-1739192400@www.hom.org
SUMMARY:Healing Hearts Luncheon
DESCRIPTION:Offering support to those grieving the death of a spouse or partner\, we will exchange\nideas on how to approach the Valentine’s Day Holiday. We will discuss suggestions on\ncoping with the grief of losing your love and life partner. A lunch will be provided.\nMonday\, February 10\, 2025 • 11:30am – 1pm\nArbor Hospice office • 2366 Oak Valley Dr.\, Ann Arbor\nRSVP with Meredith Hartmann\n734-709-3088 • mhartmann@arborhospice.org
URL:https://www.hom.org/event/healing-hearts-luncheon/
LOCATION:Arbor Hospice\, 2366 Oak Valley Drive\, Ann Arbor\, 48103
CATEGORIES:Grief Support
ORGANIZER;CN="Meredith Hartmann":MAILTO:mhartmann@arborhospice.org
END:VEVENT
BEGIN:VEVENT
DTSTART;TZID=America/Detroit:20250210T180000
DTEND;TZID=America/Detroit:20250210T191500
DTSTAMP:20260421T073229
CREATED:20231128T192630Z
LAST-MODIFIED:20240820T184643Z
UID:10002760-1739210400-1739214900@www.hom.org
SUMMARY:Living On (Virtual)
DESCRIPTION:The focus of this Living On support group is to express feelings and experiences related to the loss of a loved one in a supportive\, caring\, and non-judgmental environment. Grief and loss topics are addressed as they arise\, depending n the interests of those attending the group. RSVP to Margie Martin at 734.769.5821 or mmartin@arborhospice.org
URL:https://www.hom.org/event/living-on-virtual-4/2025-02-10/
LOCATION:Virtual Event
CATEGORIES:Grief Support
ORGANIZER;CN="Margie Martin":MAILTO:mmartin@arborhospice.org
END:VEVENT
BEGIN:VEVENT
DTSTART;TZID=America/Detroit:20250210T183000
DTEND;TZID=America/Detroit:20250210T200000
DTSTAMP:20260421T073229
CREATED:20231128T162827Z
LAST-MODIFIED:20231128T163322Z
UID:10001411-1739212200-1739217600@www.hom.org
SUMMARY:Living On - Loss of a Parent (Virtual)
DESCRIPTION:An open\, ongoing support group that meets monthly to discuss grief and loss as it pertains to the death of a parent.  \nPlease RSVP with Melissa McCreedy at mmccreedy@arborhospice.org
URL:https://www.hom.org/event/living-on-loss-of-a-parent-virtual-2-2/2025-02-10/
LOCATION:Virtual Event
CATEGORIES:Grief Support
ORGANIZER;CN="Melissa McCreedy":MAILTO:mmccreedy@arborhospice.org
END:VEVENT
END:VCALENDAR