BEGIN:VCALENDAR
VERSION:2.0
PRODID:-//Hospice of Michigan - ECPv6.15.20//NONSGML v1.0//EN
CALSCALE:GREGORIAN
METHOD:PUBLISH
X-ORIGINAL-URL:https://www.hom.org
X-WR-CALDESC:Events for Hospice of Michigan
REFRESH-INTERVAL;VALUE=DURATION:PT1H
X-Robots-Tag:noindex
X-PUBLISHED-TTL:PT1H
BEGIN:VTIMEZONE
TZID:America/Detroit
BEGIN:DAYLIGHT
TZOFFSETFROM:-0500
TZOFFSETTO:-0400
TZNAME:EDT
DTSTART:20230312T070000
END:DAYLIGHT
BEGIN:STANDARD
TZOFFSETFROM:-0400
TZOFFSETTO:-0500
TZNAME:EST
DTSTART:20231105T060000
END:STANDARD
BEGIN:DAYLIGHT
TZOFFSETFROM:-0500
TZOFFSETTO:-0400
TZNAME:EDT
DTSTART:20240310T070000
END:DAYLIGHT
BEGIN:STANDARD
TZOFFSETFROM:-0400
TZOFFSETTO:-0500
TZNAME:EST
DTSTART:20241103T060000
END:STANDARD
BEGIN:DAYLIGHT
TZOFFSETFROM:-0500
TZOFFSETTO:-0400
TZNAME:EDT
DTSTART:20250309T070000
END:DAYLIGHT
BEGIN:STANDARD
TZOFFSETFROM:-0400
TZOFFSETTO:-0500
TZNAME:EST
DTSTART:20251102T060000
END:STANDARD
END:VTIMEZONE
BEGIN:VEVENT
DTSTART;TZID=America/Detroit:20241121T133000
DTEND;TZID=America/Detroit:20241121T150000
DTSTAMP:20260422T080523
CREATED:20240820T193227Z
LAST-MODIFIED:20240820T193227Z
UID:10003077-1732195800-1732201200@www.hom.org
SUMMARY:Living On (Virtual)
DESCRIPTION:The focus of Living On support groups is to express feelings and experiences related to the loss of a loved one in a supportive\, caring\, and non-judgmental environment. Grief and loss topics are addressed as they arise\, depending on the interests of those attending the group.
URL:https://www.hom.org/event/living-on-virtual-5/2024-11-21/
LOCATION:Virtual Event
CATEGORIES:Grief Support
ORGANIZER;CN="Jackie Morris":MAILTO:jmorris@hom.org
END:VEVENT
BEGIN:VEVENT
DTSTART;TZID=America/Detroit:20241121T173000
DTEND;TZID=America/Detroit:20241121T190000
DTSTAMP:20260422T080523
CREATED:20240820T173152Z
LAST-MODIFIED:20240820T173152Z
UID:10002669-1732210200-1732215600@www.hom.org
SUMMARY:Hope for the Holidays (In person)
DESCRIPTION:This program is designed to offer support to those who are grieving the death of a loved one during a season of memories\, family\, and traditions. Specific strategies for handling special occasions and taking care of yourself during this emotionally laden season will be discussed. \nThursday\, November 21 • 5:30pm – 7pm\nHospice of Michigan office • 199 Long Rapids Rd.\, Alpena\nRSVP: Stacy Malenfant • 989-358-4295 • smalenfa@hom.org
URL:https://www.hom.org/event/hope-for-the-holidays-in-person-6/
LOCATION:Hospice of Michigan – Alpena\, 199 Long Rapids Road\, Alpena\, MI\, 49707\, United States
CATEGORIES:Grief Support
END:VEVENT
BEGIN:VEVENT
DTSTART;TZID=America/Detroit:20241121T180000
DTEND;TZID=America/Detroit:20241121T210000
DTSTAMP:20260422T080523
CREATED:20240827T145844Z
LAST-MODIFIED:20240827T151622Z
UID:10003302-1732212000-1732222800@www.hom.org
SUMMARY:Cheers for Charity VIP Night
DESCRIPTION:Sip. Savor. Support. \nJoin us at Cheers for Charity – a VIP Night\, to kick off the 2024 Grand Rapids International Wine\, Beer and Food Festival. \nHospice of Michigan is honored to be the inaugural charity partner of this renowned festival. This exclusive evening features a curated selection of the festival’s finest food\, wine and beer\, offering a taste of what’s to come. \nTickets on Sale Now!\nVisit: \nGrand Rapids International Wine\, Beer and Food Festival – Cheers for Charity (qgiv.com)
URL:https://www.hom.org/event/cheers-for-charity-vip-night/
LOCATION:DeVos Place\, 303 Monroe Ave NW\, Grand Rapids\, MI\, 49503\, United States
CATEGORIES:Fundraising Events
ORGANIZER;CN="Rachel Knapp":MAILTO:rknapp@hom.org
END:VEVENT
BEGIN:VEVENT
DTSTART;TZID=America/Detroit:20241121T180000
DTEND;TZID=America/Detroit:20241121T210000
DTSTAMP:20260422T080523
CREATED:20240906T162748Z
LAST-MODIFIED:20240906T162843Z
UID:10003303-1732212000-1732222800@www.hom.org
SUMMARY:
DESCRIPTION:Every sip and bite can make a difference  \n \nHospice of Michigan is honored to be the exclusive charity partner of the 2024 Grand Rapids International Wine\, Beer and Food Festival\, Michigan’s premiere tasting event. \n  \nThe Cheers for Charity VIP Night promises to be an elegant evening featuring a curated group of the finest food\, wine\, beers and spirits\, giving guests a taste of what’s to come during the public Festival days. \n  \nAll funds raised at Cheers for Charity will support the Open Access Program\, fueling Hospice of Michigan’s not-for-profit mission EVERY PERSON. EVERY TIME – our commitment to provide compassionate end-of-life care for all regardless of age\, diagnosis or financial circumstances.
URL:https://www.hom.org/event/21922/
LOCATION:DeVos Place\, 303 Monroe Ave NW\, Grand Rapids\, MI\, 49503\, United States
CATEGORIES:Fundraising Events
ORGANIZER;CN="Rachel Knapp":MAILTO:rknapp@hom.org
END:VEVENT
BEGIN:VEVENT
DTSTART;TZID=America/Detroit:20241121T180000
DTEND;TZID=America/Detroit:20241121T210000
DTSTAMP:20260422T080523
CREATED:20241025T162926Z
LAST-MODIFIED:20241025T162944Z
UID:10003312-1732212000-1732222800@www.hom.org
SUMMARY:Cheers for Charity VIP Event
DESCRIPTION:VIP Night to benefit Hospice of Michigan \n2024 Grand Rapids International Wine\, Beer and Food Festival  \nJoin Hospice of Michigan for an unforgettable evening\nwhere every sip and bite contributes to a cause close to our hearts. \n  \nHospice of Michigan\, a founding member of the NorthStar Care Community\, is honored to be the exclusive charity partner of the 2024 Grand Rapids International Wine\, Beer and Food Festival\, Michigan’s premiere tasting event. \nThe Cheers for Charity VIP Night promises to be an elegant evening featuring a curated group of the finest food\, wine and beer\, giving guests a taste of what’s to come during the public Festival days. \nYour participation not only promises a night of luxurious food\, fine wine\, and engaging entertainment but also makes a tangible difference in the lives of those in need. Proceeds from this event will benefit Hospice of Michigan’s Jo Elyn Nyman Anchors Programs for Children\, helping children and their families navigate the rough waters of life-limiting illness—caring for patients wherever they call home\, whenever they need our support. \nFor more information\, contact Rachael Knapp rknapp@hom.org
URL:https://www.hom.org/event/cheers-for-charity-vip-event/
LOCATION:DeVos Place\, 303 Monroe Ave NW\, Grand Rapids\, MI\, 49503\, United States
ORGANIZER;CN="Rachel Knapp":MAILTO:rknapp@hom.org
END:VEVENT
END:VCALENDAR