BEGIN:VCALENDAR
VERSION:2.0
PRODID:-//Hospice of Michigan - ECPv6.15.20//NONSGML v1.0//EN
CALSCALE:GREGORIAN
METHOD:PUBLISH
X-ORIGINAL-URL:https://www.hom.org
X-WR-CALDESC:Events for Hospice of Michigan
REFRESH-INTERVAL;VALUE=DURATION:PT1H
X-Robots-Tag:noindex
X-PUBLISHED-TTL:PT1H
BEGIN:VTIMEZONE
TZID:America/Detroit
BEGIN:DAYLIGHT
TZOFFSETFROM:-0500
TZOFFSETTO:-0400
TZNAME:EDT
DTSTART:20230312T070000
END:DAYLIGHT
BEGIN:STANDARD
TZOFFSETFROM:-0400
TZOFFSETTO:-0500
TZNAME:EST
DTSTART:20231105T060000
END:STANDARD
BEGIN:DAYLIGHT
TZOFFSETFROM:-0500
TZOFFSETTO:-0400
TZNAME:EDT
DTSTART:20240310T070000
END:DAYLIGHT
BEGIN:STANDARD
TZOFFSETFROM:-0400
TZOFFSETTO:-0500
TZNAME:EST
DTSTART:20241103T060000
END:STANDARD
BEGIN:DAYLIGHT
TZOFFSETFROM:-0500
TZOFFSETTO:-0400
TZNAME:EDT
DTSTART:20250309T070000
END:DAYLIGHT
BEGIN:STANDARD
TZOFFSETFROM:-0400
TZOFFSETTO:-0500
TZNAME:EST
DTSTART:20251102T060000
END:STANDARD
END:VTIMEZONE
BEGIN:VEVENT
DTSTART;TZID=America/Detroit:20240925T123000
DTEND;TZID=America/Detroit:20240925T140000
DTSTAMP:20260420T034642
CREATED:20240820T200251Z
LAST-MODIFIED:20240820T200251Z
UID:10003283-1727267400-1727272800@www.hom.org
SUMMARY:Grief 101 (In person)
DESCRIPTION:Join us for lunch and to discuss coping with grief and loss.  \n\Wednesday\, September 25\, 2024 • 12:30pm – 2pm\nHospice of Michigan office • 37399 Garfield Rd.\, Clinton Twp\nRSVP: Amanda Layne • 586-263-8514 • alayne@hom.org
URL:https://www.hom.org/event/grief-101-in-person-4/
LOCATION:Hospice of Michigan-Clinton Township\, 37399 Garfield Road\, Suite 208\, Clinton Twp\, 48036
CATEGORIES:Grief Support
ORGANIZER;CN="Amanda Layne":MAILTO:alayne@hom.org
END:VEVENT
BEGIN:VEVENT
DTSTART;TZID=America/Detroit:20240925T133000
DTEND;TZID=America/Detroit:20240925T143000
DTSTAMP:20260420T034642
CREATED:20240820T194252Z
LAST-MODIFIED:20240820T194252Z
UID:10003088-1727271000-1727274600@www.hom.org
SUMMARY:Living On (In person)
DESCRIPTION:The focus of Living On support groups is to express feelings and experiences related to the loss of a loved one in a supportive\, caring\, and non-judgmental environment. Grief and loss topics\nare addressed as they arise\, depending on the interests of those attending the group. \n2nd and 4th Wed. of the month • 1:30pm – 2:30pm\nCostick Activities Center • 28600 W Eleven Mile Rd\, Farmington Hills\nRSVP: Cindy Palmer • 248-334-1323 • cpalmer@hom.org
URL:https://www.hom.org/event/living-on-in-person-9/2024-09-25/
LOCATION:Costick Activities Center\, 28600 W Eleven Mile Road\, Farmington Hills\, MI\, 48336\, United States
CATEGORIES:Grief Support
ORGANIZER;CN="Cynthia Palmer":MAILTO:cpalmer@hom.org
END:VEVENT
END:VCALENDAR