BEGIN:VCALENDAR
VERSION:2.0
PRODID:-//Hospice of Michigan - ECPv6.15.20//NONSGML v1.0//EN
CALSCALE:GREGORIAN
METHOD:PUBLISH
X-WR-CALNAME:Hospice of Michigan
X-ORIGINAL-URL:https://www.hom.org
X-WR-CALDESC:Events for Hospice of Michigan
REFRESH-INTERVAL;VALUE=DURATION:PT1H
X-Robots-Tag:noindex
X-PUBLISHED-TTL:PT1H
BEGIN:VTIMEZONE
TZID:America/Detroit
BEGIN:DAYLIGHT
TZOFFSETFROM:-0500
TZOFFSETTO:-0400
TZNAME:EDT
DTSTART:20230312T070000
END:DAYLIGHT
BEGIN:STANDARD
TZOFFSETFROM:-0400
TZOFFSETTO:-0500
TZNAME:EST
DTSTART:20231105T060000
END:STANDARD
BEGIN:DAYLIGHT
TZOFFSETFROM:-0500
TZOFFSETTO:-0400
TZNAME:EDT
DTSTART:20240310T070000
END:DAYLIGHT
BEGIN:STANDARD
TZOFFSETFROM:-0400
TZOFFSETTO:-0500
TZNAME:EST
DTSTART:20241103T060000
END:STANDARD
BEGIN:DAYLIGHT
TZOFFSETFROM:-0500
TZOFFSETTO:-0400
TZNAME:EDT
DTSTART:20250309T070000
END:DAYLIGHT
BEGIN:STANDARD
TZOFFSETFROM:-0400
TZOFFSETTO:-0500
TZNAME:EST
DTSTART:20251102T060000
END:STANDARD
END:VTIMEZONE
BEGIN:VEVENT
DTSTART;TZID=America/Detroit:20240924T170000
DTEND;TZID=America/Detroit:20240924T180000
DTSTAMP:20260420T033212
CREATED:20240409T213956Z
LAST-MODIFIED:20240409T214038Z
UID:10002488-1727197200-1727200800@www.hom.org
SUMMARY:THE SUPPER CLUB
DESCRIPTION:Hospice of Michigan offers this social group for individuals who have lost a spouse or partner and are interested in making new friends and sharing a meal together.\nThis group meets the 4th Tuesday of the month 5pm – 6pm at various restaurants in Northern Oakland County\nPlease RSVP with Cindy Palmer 248-334-1323 • cpalmer@hom.org\nContact Cindy for details regarding location.
URL:https://www.hom.org/event/the-supper-club/2024-09-24/
LOCATION:MI
CATEGORIES:Grief Support
ORGANIZER;CN="Cynthia Palmer":MAILTO:cpalmer@hom.org
END:VEVENT
BEGIN:VEVENT
DTSTART;TZID=America/Detroit:20240924T180000
DTEND;TZID=America/Detroit:20240924T193000
DTSTAMP:20260420T033212
CREATED:20240820T200455Z
LAST-MODIFIED:20240820T200455Z
UID:10003284-1727200800-1727206200@www.hom.org
SUMMARY:Hope After Loss: Disenfranchising Grief - Facing Different Losses (In person)
DESCRIPTION:“Disenfranchised is grief that persons experience when they incur a loss that is not or cannot be openly acknowledged\, socially sanctioned or publicly mourned”. – Ken Doka \nPlease join us for this education meeting about other losses\, for example pet loss\, loss of job\, co-worker loss\, suicide loss etc. We will discuss what is normal during the grief process\, strategies for coping\, suggestions for self-care and available community support. \nTuesday\, September 24\, 2024 • 6pm – 7:30pm\nJames H. Cole Home for Funerals\, 16100 Schaefer Hwy.\, Detroit\nRSVP: Jackie Morris • 313-578-6328 • jmorris@hom.org
URL:https://www.hom.org/event/hope-after-loss-disenfranchising-grief-facing-different-losses-in-person/
LOCATION:James H Cole Home for Funerals\, 2624 W. Grand Blvd\, Detroit\, MI\, 49431\, United States
CATEGORIES:Grief Support
ORGANIZER;CN="Jackie Morris":MAILTO:jmorris@hom.org
END:VEVENT
END:VCALENDAR