BEGIN:VCALENDAR
VERSION:2.0
PRODID:-//Hospice of Michigan - ECPv6.15.20//NONSGML v1.0//EN
CALSCALE:GREGORIAN
METHOD:PUBLISH
X-ORIGINAL-URL:https://www.hom.org
X-WR-CALDESC:Events for Hospice of Michigan
REFRESH-INTERVAL;VALUE=DURATION:PT1H
X-Robots-Tag:noindex
X-PUBLISHED-TTL:PT1H
BEGIN:VTIMEZONE
TZID:America/Detroit
BEGIN:DAYLIGHT
TZOFFSETFROM:-0500
TZOFFSETTO:-0400
TZNAME:EDT
DTSTART:20230312T070000
END:DAYLIGHT
BEGIN:STANDARD
TZOFFSETFROM:-0400
TZOFFSETTO:-0500
TZNAME:EST
DTSTART:20231105T060000
END:STANDARD
BEGIN:DAYLIGHT
TZOFFSETFROM:-0500
TZOFFSETTO:-0400
TZNAME:EDT
DTSTART:20240310T070000
END:DAYLIGHT
BEGIN:STANDARD
TZOFFSETFROM:-0400
TZOFFSETTO:-0500
TZNAME:EST
DTSTART:20241103T060000
END:STANDARD
BEGIN:DAYLIGHT
TZOFFSETFROM:-0500
TZOFFSETTO:-0400
TZNAME:EDT
DTSTART:20250309T070000
END:DAYLIGHT
BEGIN:STANDARD
TZOFFSETFROM:-0400
TZOFFSETTO:-0500
TZNAME:EST
DTSTART:20251102T060000
END:STANDARD
END:VTIMEZONE
BEGIN:VEVENT
DTSTART;TZID=America/Detroit:20240906T103000
DTEND;TZID=America/Detroit:20240906T113000
DTSTAMP:20260420T034617
CREATED:20240820T193727Z
LAST-MODIFIED:20240820T193727Z
UID:10003080-1725618600-1725622200@www.hom.org
SUMMARY:Living On (In person)
DESCRIPTION:The focus of Living On support groups is to express feelings and experiences related to the loss of a loved one in a supportive\, caring\, and non-judgmental environment. Grief and loss topics\nare addressed as they arise\, depending on the interests of those attending the group.
URL:https://www.hom.org/event/living-on-in-person-8/2024-09-06/
LOCATION:Royal Oak Senior Center\, 3500 Marais\, Royal Oak\, MI
CATEGORIES:Grief Support
ORGANIZER;CN="Cynthia Palmer":MAILTO:cpalmer@hom.org
END:VEVENT
END:VCALENDAR